BEGIN:VCALENDAR
VERSION:2.0
PRODID:-//hacksw/handcal//NONSGML v1.0//EN
CALSCALE:GREGORIAN
BEGIN:VTIMEZONE
TZID:Europe/Berlin
X-LIC-LOCATION:Europe/Berlin
BEGIN:DAYLIGHT
TZOFFSETFROM:+0100
TZOFFSETTO:+0200
TZNAME:CEST
DTSTART:19700329T020000
RRULE:FREQ=YEARLY;BYDAY=-1SU;BYMONTH=3
END:DAYLIGHT
BEGIN:STANDARD
TZOFFSETFROM:+0200
TZOFFSETTO:+0100
TZNAME:CET
DTSTART:19701025T030000
RRULE:FREQ=YEARLY;BYDAY=-1SU;BYMONTH=10
END:STANDARD
END:VTIMEZONE
BEGIN:VEVENT
DTEND;TZID=Europe/Berlin:20250813T113000
UID:69e695b36d8b9
DTSTAMP:20260420T230803
LOCATION:Gennerich 11\, 48329 Havixbeck
DESCRIPTION:Bewegung zum Durchatmen. Stille\, die Spaß macht.\r\n\r\nEinmal kurz Pause vom wilden Alltag- und trotzdem in Bewegung bleiben?\r\nBeim Qigong entdecken Kinder auf spielerische Weise\, wie sie zur Ruhe kommen\, Kraft finden und ganz bei sich sein können. \r\nMit fließenden Bewegungen\, fantasievollen Geschichten und kleinen Übungen aus dem traditionellen Qigong lernen die Kinder: \r\n- wie sich ihre eigene Energie spüren\r\n- sich konzentriert und ruhig auf ihren Körper zu fokussieren\r\n- den Tag bewusst mit Leichtigkeit und Freude zu erleben\r\n\r\nQigong unterstützt spielerisch Konzentration und innere Ausgeglichenheit\, gesunde Körperhaltung und Beweglichkeit\, Selbstwahrnehmung und Achtsamkeit. \r\n\r\nEin Angebot\, das Kindern gut tut! Ohne Leistungsdruck. Mit viel Gefühl für sich selbst 
URL;VALUE=URI:https://www.unser-ferienprogramm.de/havixbeck/veranstaltung.php?id=282114
SUMMARY:Qigong- Ferienfreude mit Ruhe\, Kraft & Fantasie
DTSTART;TZID=Europe/Berlin:20250813T100000
END:VEVENT

END:VCALENDAR
