BEGIN:VCALENDAR
VERSION:2.0
PRODID:-//hacksw/handcal//NONSGML v1.0//EN
CALSCALE:GREGORIAN
BEGIN:VTIMEZONE
TZID:Europe/Berlin
X-LIC-LOCATION:Europe/Berlin
BEGIN:DAYLIGHT
TZOFFSETFROM:+0100
TZOFFSETTO:+0200
TZNAME:CEST
DTSTART:19700329T020000
RRULE:FREQ=YEARLY;BYDAY=-1SU;BYMONTH=3
END:DAYLIGHT
BEGIN:STANDARD
TZOFFSETFROM:+0200
TZOFFSETTO:+0100
TZNAME:CET
DTSTART:19701025T030000
RRULE:FREQ=YEARLY;BYDAY=-1SU;BYMONTH=10
END:STANDARD
END:VTIMEZONE
BEGIN:VEVENT
DTEND;TZID=Europe/Berlin:20250716T130000
UID:69e66ac118f24
DTSTAMP:20260420T200449
LOCATION:An der Feuerwache in Havixbeck
DESCRIPTION:Einsatzbereit – dein Tag bei der Feuerwehr\r\n\r\nLust auf Action\, Wasser und Abenteuer? Bei uns kannst du in einem bunten Mix aus spannenden Spielen und coolen Aktivitäten die Welt der Feuerwehr entdecken. Schlüpf in die Rolle eines Feuerwehrmanns oder einer Feuerwehrfrau\, lerne die verschiedenen Fahrzeuge kennen und erlebe\, wie man mit Wasserschlauch und Co. richtig umgeht. \r\nEs wird auf jeden Fall lustig\,  lehrreich und spannend\,  vielleicht auch nass - also pack deine Neugier ein und sei dabei!\r\n \r\n
URL;VALUE=URI:https://www.unser-ferienprogramm.de/havixbeck/veranstaltung.php?id=281919
SUMMARY:Kennenlernen der freiwilligen Feuerwehr
DTSTART;TZID=Europe/Berlin:20250716T100000
END:VEVENT

END:VCALENDAR
