BEGIN:VCALENDAR
VERSION:2.0
PRODID:-//hacksw/handcal//NONSGML v1.0//EN
CALSCALE:GREGORIAN
BEGIN:VTIMEZONE
TZID:Europe/Berlin
X-LIC-LOCATION:Europe/Berlin
BEGIN:DAYLIGHT
TZOFFSETFROM:+0100
TZOFFSETTO:+0200
TZNAME:CEST
DTSTART:19700329T020000
RRULE:FREQ=YEARLY;BYDAY=-1SU;BYMONTH=3
END:DAYLIGHT
BEGIN:STANDARD
TZOFFSETFROM:+0200
TZOFFSETTO:+0100
TZNAME:CET
DTSTART:19701025T030000
RRULE:FREQ=YEARLY;BYDAY=-1SU;BYMONTH=10
END:STANDARD
END:VTIMEZONE
BEGIN:VEVENT
DTEND;TZID=Europe/Berlin:20250730T181500
UID:69e6801b75902
DTSTAMP:20260420T213555
LOCATION:Forum der Anne Frank Gesamtschule
DESCRIPTION:Willst du tanzen\, wirbeln und glänzen? In unserem Bauchtanzkurs für Kinder von 8 bis 10 Jahren dreht sich alles um coole Moves\, bunte Schals und mitreißende orientalische Musik. Ob Mädchen oder Junge – hier darf jeder mitmachen\, Neues ausprobieren und gemeinsam eine kleine Tanzshow einstudieren. Spaß\, Bewegung und Lachen sind garantiert!\r\n\r\n
URL;VALUE=URI:https://www.unser-ferienprogramm.de/havixbeck/veranstaltung.php?id=281700
SUMMARY:ABGESAGT! Tanzen wie im Märchen - Bauchtanz für Alle!
DTSTART;TZID=Europe/Berlin:20250730T161500
END:VEVENT

END:VCALENDAR
