BEGIN:VCALENDAR
VERSION:2.0
PRODID:-//hacksw/handcal//NONSGML v1.0//EN
CALSCALE:GREGORIAN
BEGIN:VTIMEZONE
TZID:Europe/Berlin
X-LIC-LOCATION:Europe/Berlin
BEGIN:DAYLIGHT
TZOFFSETFROM:+0100
TZOFFSETTO:+0200
TZNAME:CEST
DTSTART:19700329T020000
RRULE:FREQ=YEARLY;BYDAY=-1SU;BYMONTH=3
END:DAYLIGHT
BEGIN:STANDARD
TZOFFSETFROM:+0200
TZOFFSETTO:+0100
TZNAME:CET
DTSTART:19701025T030000
RRULE:FREQ=YEARLY;BYDAY=-1SU;BYMONTH=10
END:STANDARD
END:VTIMEZONE
BEGIN:VEVENT
DTEND;TZID=Europe/Berlin:20250723T181500
UID:69e695b251f6d
DTSTAMP:20260420T230802
LOCATION:Küche AFG
DESCRIPTION:Du hast Lust auf einen Ausflug in die Welt der orientalischen Küche? Bei dieser besonderen Aktion stellen Kinder von 6 bis 10 Jahren ihren eigenen Teig her\, kneten\, rollen und belegen ihn mit frischen Zutaten und duftenden Gewürzen aus 1001 Nacht. Ob würzig\, mild oder ganz bunt – jeder darf seine ganz persönliche orientalische Pizza kreieren. Und natürlich wird am Ende gemeinsam probiert und genossen!\r\nEin köstliches Backabenteuer zum Mitmachen – sei dabei!\r\n
URL;VALUE=URI:https://www.unser-ferienprogramm.de/havixbeck/veranstaltung.php?id=281693
SUMMARY:Orientalische Pizza-Zauberei – Backspaß für kleine Küchenhelden!
DTSTART;TZID=Europe/Berlin:20250723T161500
END:VEVENT

END:VCALENDAR
