BEGIN:VCALENDAR
VERSION:2.0
PRODID:-//hacksw/handcal//NONSGML v1.0//EN
CALSCALE:GREGORIAN
BEGIN:VTIMEZONE
TZID:Europe/Berlin
X-LIC-LOCATION:Europe/Berlin
BEGIN:DAYLIGHT
TZOFFSETFROM:+0100
TZOFFSETTO:+0200
TZNAME:CEST
DTSTART:19700329T020000
RRULE:FREQ=YEARLY;BYDAY=-1SU;BYMONTH=3
END:DAYLIGHT
BEGIN:STANDARD
TZOFFSETFROM:+0200
TZOFFSETTO:+0100
TZNAME:CET
DTSTART:19701025T030000
RRULE:FREQ=YEARLY;BYDAY=-1SU;BYMONTH=10
END:STANDARD
END:VTIMEZONE
BEGIN:VEVENT
DTEND;TZID=Europe/Berlin:20250712T170000
UID:69e66abf72c39
DTSTAMP:20260420T200447
LOCATION:Treffen am Parkplatz an der Altenbergerstraße um 11:30 Uhr
DESCRIPTION:Der Jugendaustausch Bellegarde geht mit Euch und Besuchern aus Frankreich in den Steinbruch der Firma Fark. Dort lernt ihr über ein Kreativangebot den Baumberger Sandstein kennen.\r\n\r\nDanach geht's noch ins zu einer gemeinsamen Aktion ins Sandsteinmuseum. Dort werdet ihr noch mit leckeren Hot Dogs und Getränken versorgt.\r\n\r\nAnmeldungen bei Cia Gudorf-Brocks unter gudorf-brocks@t-online.de oder 01718187707.
URL;VALUE=URI:https://www.unser-ferienprogramm.de/havixbeck/veranstaltung.php?id=281688
SUMMARY:Besuch des Steinbruchs mit Kreativangebot und Sandsteinmuseum
DTSTART;TZID=Europe/Berlin:20250712T113000
END:VEVENT

END:VCALENDAR
