BEGIN:VCALENDAR
VERSION:2.0
PRODID:-//hacksw/handcal//NONSGML v1.0//EN
CALSCALE:GREGORIAN
BEGIN:VTIMEZONE
TZID:Europe/Berlin
X-LIC-LOCATION:Europe/Berlin
BEGIN:DAYLIGHT
TZOFFSETFROM:+0100
TZOFFSETTO:+0200
TZNAME:CEST
DTSTART:19700329T020000
RRULE:FREQ=YEARLY;BYDAY=-1SU;BYMONTH=3
END:DAYLIGHT
BEGIN:STANDARD
TZOFFSETFROM:+0200
TZOFFSETTO:+0100
TZNAME:CET
DTSTART:19701025T030000
RRULE:FREQ=YEARLY;BYDAY=-1SU;BYMONTH=10
END:STANDARD
END:VTIMEZONE
BEGIN:VEVENT
DTEND;TZID=Europe/Berlin:20250724T130000
UID:69e6959800fce
DTSTAMP:20260420T230736
LOCATION:Baumbergesporthalle am Bürgerpark
DESCRIPTION:Du hast Lust auf Action\, Teamwork und schnelle Spiele mit dem Ball? Dann bist du hier genau richtig! \r\n\r\nIn unserem Handball-Workshop kannst du die Sportart kennenlernen oder deine Skills verbessern – ganz egal\, ob du Einsteiger*in bist oder schon im Verein spielst.\r\n\r\nGemeinsam trainieren wir Passen\, Werfen\, Tore werfen und natürlich auch Teamplay– und das Beste: Du bekommst deinen eigenen Ball mit nach Hause!\r\n\r\nFür alle von 6 bis 12 Jahren\, die Bock auf Sport\, Spiel und neue Freundschaften haben.\r\n\r\nFür deine Stärkung zwischendurch sorgen wir mit frischem Obst und Getränken.
URL;VALUE=URI:https://www.unser-ferienprogramm.de/havixbeck/veranstaltung.php?id=281561
SUMMARY:Handball Action - Spiel\, Spaß und Teamgeist!
DTSTART;TZID=Europe/Berlin:20250724T100000
END:VEVENT

END:VCALENDAR
