BEGIN:VCALENDAR
VERSION:2.0
PRODID:-//hacksw/handcal//NONSGML v1.0//EN
CALSCALE:GREGORIAN
BEGIN:VTIMEZONE
TZID:Europe/Berlin
X-LIC-LOCATION:Europe/Berlin
BEGIN:DAYLIGHT
TZOFFSETFROM:+0100
TZOFFSETTO:+0200
TZNAME:CEST
DTSTART:19700329T020000
RRULE:FREQ=YEARLY;BYDAY=-1SU;BYMONTH=3
END:DAYLIGHT
BEGIN:STANDARD
TZOFFSETFROM:+0200
TZOFFSETTO:+0100
TZNAME:CET
DTSTART:19701025T030000
RRULE:FREQ=YEARLY;BYDAY=-1SU;BYMONTH=10
END:STANDARD
END:VTIMEZONE
BEGIN:VEVENT
DTEND;TZID=Europe/Berlin:20250723T123000
UID:69e6965652eac
DTSTAMP:20260420T231046
LOCATION:Schul- und Gemeindebibliothek
DESCRIPTION:Manga Magic – Von den Grundlagen zur eigenen Figur!\r\n\r\nTauche ein in die Welt der Manga! Gemeinsam lernen wir\, wie man Gesichter\, Körper und coole Posen im typischen Mangastil zeichnet. Schritt für Schritt entwickelst du deine eigenen Figuren – ganz nach deinen Ideen! Egal ob du Anfänger*in bist oder schon geübt\, hier kannst du kreativ sein und Spaß haben. Für alle von 10 bis 14 Jahren.\r\n
URL;VALUE=URI:https://www.unser-ferienprogramm.de/havixbeck/veranstaltung.php?id=281455
SUMMARY:Manga Magic - Zeichne mit uns!
DTSTART;TZID=Europe/Berlin:20250723T100000
END:VEVENT

END:VCALENDAR
