BEGIN:VCALENDAR
VERSION:2.0
PRODID:-//hacksw/handcal//NONSGML v1.0//EN
CALSCALE:GREGORIAN
BEGIN:VTIMEZONE
TZID:Europe/Berlin
X-LIC-LOCATION:Europe/Berlin
BEGIN:DAYLIGHT
TZOFFSETFROM:+0100
TZOFFSETTO:+0200
TZNAME:CEST
DTSTART:19700329T020000
RRULE:FREQ=YEARLY;BYDAY=-1SU;BYMONTH=3
END:DAYLIGHT
BEGIN:STANDARD
TZOFFSETFROM:+0200
TZOFFSETTO:+0100
TZNAME:CET
DTSTART:19701025T030000
RRULE:FREQ=YEARLY;BYDAY=-1SU;BYMONTH=10
END:STANDARD
END:VTIMEZONE
BEGIN:VEVENT
DTEND;TZID=Europe/Berlin:20250814T170000
UID:69e695f69ebda
DTSTAMP:20260420T230910
LOCATION:EVA- Ev. Kinder- und Jugendzentrum Havixbeck
DESCRIPTION:Heute werdet ihr selbst zu kleinen Bäckermeister:innen!\r\nGemeinsam bereiten wir leckeren Waffelteig zu - und das in vielen bunten Farben.\r\nJedes Kind darf seinen Teig nach Lust und Laune mit Lebensmittelfarbe gestalten und anschließend mit verschiedenen kleinen Extras (Puderzucker\, Eis\, Obst\, Sahne oder Streusel) dekorieren. \r\nUnd das Beste: Die selbst gebackenen Waffeln werden am Ende natürlich auch mit großem Appetit verspeist! 
URL;VALUE=URI:https://www.unser-ferienprogramm.de/havixbeck/veranstaltung.php?id=281356
SUMMARY:WaffelWahnsinn- wir haben voll einen an der Waffel!
DTSTART;TZID=Europe/Berlin:20250814T143000
END:VEVENT

END:VCALENDAR
