BEGIN:VCALENDAR
VERSION:2.0
PRODID:-//hacksw/handcal//NONSGML v1.0//EN
CALSCALE:GREGORIAN
BEGIN:VTIMEZONE
TZID:Europe/Berlin
X-LIC-LOCATION:Europe/Berlin
BEGIN:DAYLIGHT
TZOFFSETFROM:+0100
TZOFFSETTO:+0200
TZNAME:CEST
DTSTART:19700329T020000
RRULE:FREQ=YEARLY;BYDAY=-1SU;BYMONTH=3
END:DAYLIGHT
BEGIN:STANDARD
TZOFFSETFROM:+0200
TZOFFSETTO:+0100
TZNAME:CET
DTSTART:19701025T030000
RRULE:FREQ=YEARLY;BYDAY=-1SU;BYMONTH=10
END:STANDARD
END:VTIMEZONE
BEGIN:VEVENT
DTEND;TZID=Europe/Berlin:20250728T170000
UID:69e681abead23
DTSTAMP:20260420T214235
LOCATION:EVA- Ev. Kinder- und Jugendzentrum Havixbeck
DESCRIPTION:Beim Basteln mit Schrumpffolie passiert echte Magie: Aus großen\, selbst gestalteten Motiven werden im Ofen kleine stabile Kunstwerke! \r\nWir malen\, schneiden und beobachten staunend\, wie sich die Folie vor unseren Augen zusammenzieht und dabei individuelle Schlüsselanhänger\, Ohrringe und vieles mehr entstehen.\r\nEin kreatives Highlight für Groß und Klein - mit WOW- Effekt beim Schrumpf- Moment!
URL;VALUE=URI:https://www.unser-ferienprogramm.de/havixbeck/veranstaltung.php?id=281324
SUMMARY:Groß gemalt\, klein geschrumpft! Der Zauber der Schrumpffolie
DTSTART;TZID=Europe/Berlin:20250728T143000
END:VEVENT

END:VCALENDAR
