BEGIN:VCALENDAR
VERSION:2.0
PRODID:-//hacksw/handcal//NONSGML v1.0//EN
CALSCALE:GREGORIAN
BEGIN:VTIMEZONE
TZID:Europe/Berlin
X-LIC-LOCATION:Europe/Berlin
BEGIN:DAYLIGHT
TZOFFSETFROM:+0100
TZOFFSETTO:+0200
TZNAME:CEST
DTSTART:19700329T020000
RRULE:FREQ=YEARLY;BYDAY=-1SU;BYMONTH=3
END:DAYLIGHT
BEGIN:STANDARD
TZOFFSETFROM:+0200
TZOFFSETTO:+0100
TZNAME:CET
DTSTART:19701025T030000
RRULE:FREQ=YEARLY;BYDAY=-1SU;BYMONTH=10
END:STANDARD
END:VTIMEZONE
BEGIN:VEVENT
DTEND;TZID=Europe/Berlin:20250723T170000
UID:69e695f09a09f
DTSTAMP:20260420T230904
LOCATION:EVA- Ev. Kinder- und Jugendzentrum Havixbeck
DESCRIPTION:Hier wird gebastelt\, gelacht und ein paar Tage später gestaunt!\r\nBeim Grasköpfe basteln\, gestalten wir mit viel Fantasie lustige Figuren mit Erde\, Samen und bunten Accessoires. Schon nach wenigen Tagen sprießt das erste grüne Haar - und die kleinen Gärtner:innen dürfen kämmen\, frisieren oder sogar "Haare schneiden".
URL;VALUE=URI:https://www.unser-ferienprogramm.de/havixbeck/veranstaltung.php?id=281316
SUMMARY:Kreative Köpfe mit grüner Frisur - Grasköpfe basteln
DTSTART;TZID=Europe/Berlin:20250723T143000
END:VEVENT

END:VCALENDAR
