BEGIN:VCALENDAR
VERSION:2.0
PRODID:-//hacksw/handcal//NONSGML v1.0//EN
CALSCALE:GREGORIAN
BEGIN:VTIMEZONE
TZID:Europe/Berlin
X-LIC-LOCATION:Europe/Berlin
BEGIN:DAYLIGHT
TZOFFSETFROM:+0100
TZOFFSETTO:+0200
TZNAME:CEST
DTSTART:19700329T020000
RRULE:FREQ=YEARLY;BYDAY=-1SU;BYMONTH=3
END:DAYLIGHT
BEGIN:STANDARD
TZOFFSETFROM:+0200
TZOFFSETTO:+0100
TZNAME:CET
DTSTART:19701025T030000
RRULE:FREQ=YEARLY;BYDAY=-1SU;BYMONTH=10
END:STANDARD
END:VTIMEZONE
BEGIN:VEVENT
DTEND;TZID=Europe/Berlin:20250721T163000
UID:69e6825843b40
DTSTAMP:20260420T214528
LOCATION:EVA- Ev. Kinder- und Jugendzentrum Havixbeck
DESCRIPTION:Ob Schmetterling\, Superheld\, Prinzessin oder Tiger- beim Kinderschminken verwandeln sich kleine Gäste in ihre liebsten Figuren. Mit bunten Farben\, viel Geduld und einem Lächeln zaubern wir strahlende Kinderaugen.\r\nKunterbunter Spaß ist garantiert!
URL;VALUE=URI:https://www.unser-ferienprogramm.de/havixbeck/veranstaltung.php?id=281312
SUMMARY:Bunte Fantasie für kleine Gesichter - Kinderschminken
DTSTART;TZID=Europe/Berlin:20250721T143000
END:VEVENT

END:VCALENDAR
