BEGIN:VCALENDAR
VERSION:2.0
PRODID:-//hacksw/handcal//NONSGML v1.0//EN
CALSCALE:GREGORIAN
BEGIN:VTIMEZONE
TZID:Europe/Berlin
X-LIC-LOCATION:Europe/Berlin
BEGIN:DAYLIGHT
TZOFFSETFROM:+0100
TZOFFSETTO:+0200
TZNAME:CEST
DTSTART:19700329T020000
RRULE:FREQ=YEARLY;BYDAY=-1SU;BYMONTH=3
END:DAYLIGHT
BEGIN:STANDARD
TZOFFSETFROM:+0200
TZOFFSETTO:+0100
TZNAME:CET
DTSTART:19701025T030000
RRULE:FREQ=YEARLY;BYDAY=-1SU;BYMONTH=10
END:STANDARD
END:VTIMEZONE
BEGIN:VEVENT
DTEND;TZID=Europe/Berlin:20250825T170000
UID:69e67f5a0f61e
DTSTAMP:20260420T213242
LOCATION:EVA- Evangelisches Kinder und Jugendzentrum Havixbeck
DESCRIPTION:Sommer\, Sonne\, Sonnenschein!\r\nDa darf das ein oder andere Eis nicht fehlen. \r\nGemeinsam zaubern wir super leckere Eisbecher mit Obst\, Streusel\, selbstgemachten Soßen und vieles mehr.\r\nDu entscheidest\, was rein und drauf soll und kreierst so deinen ganz individuellen Becher.\r\n\r\n
URL;VALUE=URI:https://www.unser-ferienprogramm.de/havixbeck/veranstaltung.php?id=280858
SUMMARY:Eis\, Eis\, EisParty
DTSTART;TZID=Europe/Berlin:20250825T143000
END:VEVENT

END:VCALENDAR
