BEGIN:VCALENDAR
VERSION:2.0
PRODID:-//hacksw/handcal//NONSGML v1.0//EN
CALSCALE:GREGORIAN
BEGIN:VTIMEZONE
TZID:Europe/Berlin
X-LIC-LOCATION:Europe/Berlin
BEGIN:DAYLIGHT
TZOFFSETFROM:+0100
TZOFFSETTO:+0200
TZNAME:CEST
DTSTART:19700329T020000
RRULE:FREQ=YEARLY;BYDAY=-1SU;BYMONTH=3
END:DAYLIGHT
BEGIN:STANDARD
TZOFFSETFROM:+0200
TZOFFSETTO:+0100
TZNAME:CET
DTSTART:19701025T030000
RRULE:FREQ=YEARLY;BYDAY=-1SU;BYMONTH=10
END:STANDARD
END:VTIMEZONE
BEGIN:VEVENT
DTEND;TZID=Europe/Berlin:20250718T170000
UID:69e67ffddf0e4
DTSTAMP:20260420T213525
LOCATION:EVA- Evangelisches Kinder und Jugendzentrum Havixbeck
DESCRIPTION:Deine Zielscheibe ist heute in XXL Format am Start. \r\nWir haben die Bälle und du bestimmt die perfekte Zielsicherheit dabei.\r\nSchaffst du es die goldene Mitte unserer 3m*3m großen Dartscheibe zu treffen? \r\nWir sind gespannt! 
URL;VALUE=URI:https://www.unser-ferienprogramm.de/havixbeck/veranstaltung.php?id=280857
SUMMARY:XXL Dart- Fußball 
DTSTART;TZID=Europe/Berlin:20250718T143000
END:VEVENT

END:VCALENDAR
