BEGIN:VCALENDAR
VERSION:2.0
PRODID:-//hacksw/handcal//NONSGML v1.0//EN
CALSCALE:GREGORIAN
BEGIN:VTIMEZONE
TZID:Europe/Berlin
X-LIC-LOCATION:Europe/Berlin
BEGIN:DAYLIGHT
TZOFFSETFROM:+0100
TZOFFSETTO:+0200
TZNAME:CEST
DTSTART:19700329T020000
RRULE:FREQ=YEARLY;BYDAY=-1SU;BYMONTH=3
END:DAYLIGHT
BEGIN:STANDARD
TZOFFSETFROM:+0200
TZOFFSETTO:+0100
TZNAME:CET
DTSTART:19701025T030000
RRULE:FREQ=YEARLY;BYDAY=-1SU;BYMONTH=10
END:STANDARD
END:VTIMEZONE
BEGIN:VEVENT
DTEND;TZID=Europe/Berlin:20250716T163000
UID:69e66a8c81c1d
DTSTAMP:20260420T200356
LOCATION:Schul- und Gemeindebibliothek
DESCRIPTION:Ein aufregender und lustiger Film über Freundschaft und Zusammenhalt.\r\n\r\nEndlich ein neuer Freund! Als Meral nach dem Umzug in ihrem neuen Kinderzimmer eine kleine Maus entdeckt\, fühlt sie sich nicht mehr ganz so einsam. Ihre Eltern allerdings sind von dem Nager überhaupt nicht begeistert. Und so ist klar: Die Maus muss mit auf die anstehende Klassenfahrt.\r\n\r\nFür die richtige Kinoatmosphäre ist gesorgt! Wir freuen uns auf Euch!
URL;VALUE=URI:https://www.unser-ferienprogramm.de/havixbeck/veranstaltung.php?id=280241
SUMMARY:Kinderkino in der Bücherei: "Der Fall Mäuserich"
DTSTART;TZID=Europe/Berlin:20250716T150000
END:VEVENT

END:VCALENDAR
