BEGIN:VCALENDAR
VERSION:2.0
PRODID:-//hacksw/handcal//NONSGML v1.0//EN
CALSCALE:GREGORIAN
BEGIN:VTIMEZONE
TZID:Europe/Berlin
X-LIC-LOCATION:Europe/Berlin
BEGIN:DAYLIGHT
TZOFFSETFROM:+0100
TZOFFSETTO:+0200
TZNAME:CEST
DTSTART:19700329T020000
RRULE:FREQ=YEARLY;BYDAY=-1SU;BYMONTH=3
END:DAYLIGHT
BEGIN:STANDARD
TZOFFSETFROM:+0200
TZOFFSETTO:+0100
TZNAME:CET
DTSTART:19701025T030000
RRULE:FREQ=YEARLY;BYDAY=-1SU;BYMONTH=10
END:STANDARD
END:VTIMEZONE
BEGIN:VEVENT
DTEND;TZID=Europe/Berlin:20250820T130000
UID:69e695b1ef31b
DTSTAMP:20260420T230801
LOCATION:Hof Edelkamp\, Walingen 24
DESCRIPTION:Der Umweltbus LUMBRICUS ist ein rollendes Labor\, in und mit dem die Natur und Umwelt vor unserer Haustüre erforscht werden kann. Du denkst\, Krabbeltiere sind einfach nur klein und überflüssig? Du wirst staunen!  Wir gehen gemeinsam auf die Suche nach kleinen und unscheinbaren Tieren -  zum Abschluss schauen wir uns unter der Lupe all die Besonderheiten der kleinen Lebewesen genau an\, bevor wir sie wieder in die Freiheit entlassen. \r\n\r\n
URL;VALUE=URI:https://www.unser-ferienprogramm.de/havixbeck/veranstaltung.php?id=280142
SUMMARY:Kleine Krabbeltiere ganz groß - Was lebt auf der Wiese und unter unseren Füßen?
DTSTART;TZID=Europe/Berlin:20250820T100000
END:VEVENT

END:VCALENDAR
