BEGIN:VCALENDAR
VERSION:2.0
PRODID:-//hacksw/handcal//NONSGML v1.0//EN
CALSCALE:GREGORIAN
BEGIN:VTIMEZONE
TZID:Europe/Berlin
X-LIC-LOCATION:Europe/Berlin
BEGIN:DAYLIGHT
TZOFFSETFROM:+0100
TZOFFSETTO:+0200
TZNAME:CEST
DTSTART:19700329T020000
RRULE:FREQ=YEARLY;BYDAY=-1SU;BYMONTH=3
END:DAYLIGHT
BEGIN:STANDARD
TZOFFSETFROM:+0200
TZOFFSETTO:+0100
TZNAME:CET
DTSTART:19701025T030000
RRULE:FREQ=YEARLY;BYDAY=-1SU;BYMONTH=10
END:STANDARD
END:VTIMEZONE
BEGIN:VEVENT
DTEND;TZID=Europe/Berlin:20250819T120000
UID:69e67fadca708
DTSTAMP:20260420T213405
LOCATION:Steinbruch der Firma Fark
DESCRIPTION:Dieses tolle kulturelle Highlight wird vom Kulturrucksack NRW\, einem Landesprogramm mit vielen kulturellen Angeboten für Kinder und Jugendliche\, unterstützt. Ihr habt dabei die Chance\, einen echten Steinbruch zu entdecken. Gemeinsam mit dem Vorsitzenden des Heimatvereins\, Friedhelm Brockhausen und der Museumsleiterin Angela Heinemann\, erkundet ihr den noch aktiven Steinbruch der Firma Fark in den Baumbergen. Hier wird der Baumberger Sandstein abgebaut\, aus dem das Torhaus\, die Havixbecker Kirche oder der Dom in Münster einst erbaut wurden. Es gibt viele Geschichten rund um unseren Sandstein und ihr könnt selbst auf Entdeckungsreise gehen und vielleicht findet ihr ja sogar eine Versteinerung. Anschließend gibt es ein Picknick im Steinbruch - für Essen und Trinken ist auf jeden Fall gesorgt!  \r\n\r\n\r\n
URL;VALUE=URI:https://www.unser-ferienprogramm.de/havixbeck/veranstaltung.php?id=280099
SUMMARY:Erlebt einen echten Steinbruch! Führung durch den Steinbruch Fark
DTSTART;TZID=Europe/Berlin:20250819T100000
END:VEVENT

END:VCALENDAR
