BEGIN:VCALENDAR
VERSION:2.0
PRODID:-//hacksw/handcal//NONSGML v1.0//EN
CALSCALE:GREGORIAN
BEGIN:VTIMEZONE
TZID:Europe/Berlin
X-LIC-LOCATION:Europe/Berlin
BEGIN:DAYLIGHT
TZOFFSETFROM:+0100
TZOFFSETTO:+0200
TZNAME:CEST
DTSTART:19700329T020000
RRULE:FREQ=YEARLY;BYDAY=-1SU;BYMONTH=3
END:DAYLIGHT
BEGIN:STANDARD
TZOFFSETFROM:+0200
TZOFFSETTO:+0100
TZNAME:CET
DTSTART:19701025T030000
RRULE:FREQ=YEARLY;BYDAY=-1SU;BYMONTH=10
END:STANDARD
END:VTIMEZONE
BEGIN:VEVENT
DTEND;TZID=Europe/Berlin:20250717T120000
UID:69e6800fead93
DTSTAMP:20260420T213543
LOCATION:Schul- und Gemeindebibliothek Havixbeck 
DESCRIPTION:Wir gestalten einen Hampelmann und ziehen  ihn  mit Stoff\, wie die Künstlerin Thérese Ravit von \r\nCréativi‘Thé an.\r\n\r\nDie Kunstwerke dürft ihr dann mit nach Hause nehmen!
URL;VALUE=URI:https://www.unser-ferienprogramm.de/havixbeck/veranstaltung.php?id=279645
SUMMARY:Tänzer / Tänzerin  Mobilé 
DTSTART;TZID=Europe/Berlin:20250717T103000
END:VEVENT

END:VCALENDAR
