BEGIN:VCALENDAR
VERSION:2.0
PRODID:-//hacksw/handcal//NONSGML v1.0//EN
CALSCALE:GREGORIAN
BEGIN:VTIMEZONE
TZID:Europe/Berlin
X-LIC-LOCATION:Europe/Berlin
BEGIN:DAYLIGHT
TZOFFSETFROM:+0100
TZOFFSETTO:+0200
TZNAME:CEST
DTSTART:19700329T020000
RRULE:FREQ=YEARLY;BYDAY=-1SU;BYMONTH=3
END:DAYLIGHT
BEGIN:STANDARD
TZOFFSETFROM:+0200
TZOFFSETTO:+0100
TZNAME:CET
DTSTART:19701025T030000
RRULE:FREQ=YEARLY;BYDAY=-1SU;BYMONTH=10
END:STANDARD
END:VTIMEZONE
BEGIN:VEVENT
DTEND;TZID=Europe/Berlin:20250715T120000
UID:69e68074ce05b
DTSTAMP:20260420T213724
LOCATION:Werkraum Container der Baumberge Grundschule  Havixbeck 
DESCRIPTION:Bunte Skyline – Havixbeck neu entdecken!   \r\nTauche ein in die Farben und Formen deiner Stadt! \r\nWir verwandeln die Skyline von Havixbeck in ein abstraktes Kunstwerk. Mit Pinseln\, Schwämmen und \r\nleuchtenden Farben erschaffen wir eine ganz neue Sicht auf bekannte Gebäude – wild\, bunt und voller Fantasie! Gemeinsam lassen wir Havixbeck in einem neuen Licht erstrahlen!  \r\n\r\nDie Kunstwerke dürft ihr dann mit nach Hause nehmen! 
URL;VALUE=URI:https://www.unser-ferienprogramm.de/havixbeck/veranstaltung.php?id=279637
SUMMARY:Havixbeck Skyline
DTSTART;TZID=Europe/Berlin:20250715T103000
END:VEVENT

END:VCALENDAR
