BEGIN:VCALENDAR
VERSION:2.0
PRODID:-//hacksw/handcal//NONSGML v1.0//EN
CALSCALE:GREGORIAN
BEGIN:VTIMEZONE
TZID:Europe/Berlin
X-LIC-LOCATION:Europe/Berlin
BEGIN:DAYLIGHT
TZOFFSETFROM:+0100
TZOFFSETTO:+0200
TZNAME:CEST
DTSTART:19700329T020000
RRULE:FREQ=YEARLY;BYDAY=-1SU;BYMONTH=3
END:DAYLIGHT
BEGIN:STANDARD
TZOFFSETFROM:+0200
TZOFFSETTO:+0100
TZNAME:CET
DTSTART:19701025T030000
RRULE:FREQ=YEARLY;BYDAY=-1SU;BYMONTH=10
END:STANDARD
END:VTIMEZONE
BEGIN:VEVENT
DTEND;TZID=Europe/Berlin:20250820T190000
UID:69e6807ebb85b
DTSTAMP:20260420T213734
LOCATION:Reithalle des Reit- u. Fahrvereins Havixbeck-Hohenholte
DESCRIPTION:Hier könnt ihr einen Einblick in die "Welt des Voltigierens" bekommen. Dazu gehören auch alle anfallenden Arbeiten rund ums voltigieren\, wie Stall streuen\, Pferde putzen\, Aufwärmen von Mensch und Tier... Wer Lust hat\, diesen Sport näher kennenzulernen\, der sollte sich schnell anmelden!\r\n\r\n
URL;VALUE=URI:https://www.unser-ferienprogramm.de/havixbeck/veranstaltung.php?id=278311
SUMMARY:Schnupperstunde Voltigieren
DTSTART;TZID=Europe/Berlin:20250820T170000
END:VEVENT

END:VCALENDAR
