BEGIN:VCALENDAR
VERSION:2.0
PRODID:-//hacksw/handcal//NONSGML v1.0//EN
CALSCALE:GREGORIAN
BEGIN:VTIMEZONE
TZID:Europe/Berlin
X-LIC-LOCATION:Europe/Berlin
BEGIN:DAYLIGHT
TZOFFSETFROM:+0100
TZOFFSETTO:+0200
TZNAME:CEST
DTSTART:19700329T020000
RRULE:FREQ=YEARLY;BYDAY=-1SU;BYMONTH=3
END:DAYLIGHT
BEGIN:STANDARD
TZOFFSETFROM:+0200
TZOFFSETTO:+0100
TZNAME:CET
DTSTART:19701025T030000
RRULE:FREQ=YEARLY;BYDAY=-1SU;BYMONTH=10
END:STANDARD
END:VTIMEZONE
BEGIN:VEVENT
DTEND;TZID=Europe/Berlin:20250721T120000
UID:69e695abc3716
DTSTAMP:20260420T230755
LOCATION:Vorraum Mensa AFG
DESCRIPTION:Du bist gerne in Bewegung und schlüpfst in andere Rollen? Du magst spannende und schöne Geschichten? Und du lachst viel und gerne? Dann bist du in diesem Workshop genau richtig: Beim Improtheater muss man keine langen Texte auswendig lernen oder vorher feste Rollen einstudieren. Die Geschichten denken wir uns nämlich alle zusammen aus\, ganz spontan und frei. Alle können mitmachen und zusammen viele lustige Szenen auf die Bühne bringen. Ob du schon einmal Theater gespielt hast oder nicht\, ist ganz egal. Denn Improtheater ist für alle da. Hauptsache wir haben Spaß dabei!
URL;VALUE=URI:https://www.unser-ferienprogramm.de/havixbeck/veranstaltung.php?id=277607
SUMMARY:3-2-1-los! Improtheater für Kinder
DTSTART;TZID=Europe/Berlin:20250721T100000
END:VEVENT

END:VCALENDAR
