BEGIN:VCALENDAR
VERSION:2.0
PRODID:-//hacksw/handcal//NONSGML v1.0//EN
CALSCALE:GREGORIAN
BEGIN:VTIMEZONE
TZID:Europe/Berlin
X-LIC-LOCATION:Europe/Berlin
BEGIN:DAYLIGHT
TZOFFSETFROM:+0100
TZOFFSETTO:+0200
TZNAME:CEST
DTSTART:19700329T020000
RRULE:FREQ=YEARLY;BYDAY=-1SU;BYMONTH=3
END:DAYLIGHT
BEGIN:STANDARD
TZOFFSETFROM:+0200
TZOFFSETTO:+0100
TZNAME:CET
DTSTART:19701025T030000
RRULE:FREQ=YEARLY;BYDAY=-1SU;BYMONTH=10
END:STANDARD
END:VTIMEZONE
BEGIN:VEVENT
DTEND;TZID=Europe/Berlin:20250714T183000
UID:69e66ac01a7b4
DTSTAMP:20260420T200448
LOCATION:Bahnhof Havixbeck
DESCRIPTION:Der Baumberge-Verein lädt gemeinsam mit der Kinder-\, Jugend- und Familienhilfe e.V. interessierte Kinder im Alter von 7-11 Jahren zum Wandern in den Baumbergen ein. Die Kinder wandern von Havixbeck über den Longinusturm zur Weitblickwiese in Billerbeck.\r\nAuf dem Naturbildungsgelände erhalten die Kinder eine warme Mahlzeit\, die über dem Lagerfeuer zubereitet wird.\r\n\r\nDie Kinder können im Rahmen dieser Wanderung ein Abzeichen der deutschen Wanderjugend erhalten\, indem sie unterwegs Pflanzen und Tierspuren bestimmen (auch ungeübte Kinder werden ausreichend Kenntnisse erwerben) und mittels Karte und Wegzeichen selber die Wanderstrecke finden.\r\n 
URL;VALUE=URI:https://www.unser-ferienprogramm.de/havixbeck/veranstaltung.php?id=277032
SUMMARY:Wanderung für Outdoorkids 2025
DTSTART;TZID=Europe/Berlin:20250714T083000
END:VEVENT

END:VCALENDAR
