BEGIN:VCALENDAR
VERSION:2.0
PRODID:-//hacksw/handcal//NONSGML v1.0//EN
CALSCALE:GREGORIAN
BEGIN:VTIMEZONE
TZID:Europe/Berlin
X-LIC-LOCATION:Europe/Berlin
BEGIN:DAYLIGHT
TZOFFSETFROM:+0100
TZOFFSETTO:+0200
TZNAME:CEST
DTSTART:19700329T020000
RRULE:FREQ=YEARLY;BYDAY=-1SU;BYMONTH=3
END:DAYLIGHT
BEGIN:STANDARD
TZOFFSETFROM:+0200
TZOFFSETTO:+0100
TZNAME:CET
DTSTART:19701025T030000
RRULE:FREQ=YEARLY;BYDAY=-1SU;BYMONTH=10
END:STANDARD
END:VTIMEZONE
BEGIN:VEVENT
DTEND;TZID=Europe/Berlin:20250728T113000
UID:69e695e5bd802
DTSTAMP:20260420T230853
LOCATION:Schmiede- und Metallwerkstatt\, Stapeler Straße 23
DESCRIPTION:Werner Paß lädt euch in seine Schmiede- und Metallwerkstatt ein und ihr habt dort die Gelegenheit die Grundtechniken des Schmiedens kennen zu lernen. Am Ambos könnt ihr euch selber an das Schmieden herantasten und eigene kleine Objekte gestalten.\r\n\r\nEine sicher nicht alltägliche Chance! 
URL;VALUE=URI:https://www.unser-ferienprogramm.de/havixbeck/veranstaltung.php?id=277015
SUMMARY:Schmieden - wie geht das?
DTSTART;TZID=Europe/Berlin:20250728T093000
END:VEVENT

END:VCALENDAR
