BEGIN:VCALENDAR
VERSION:2.0
PRODID:-//hacksw/handcal//NONSGML v1.0//EN
CALSCALE:GREGORIAN
BEGIN:VTIMEZONE
TZID:Europe/Berlin
X-LIC-LOCATION:Europe/Berlin
BEGIN:DAYLIGHT
TZOFFSETFROM:+0100
TZOFFSETTO:+0200
TZNAME:CEST
DTSTART:19700329T020000
RRULE:FREQ=YEARLY;BYDAY=-1SU;BYMONTH=3
END:DAYLIGHT
BEGIN:STANDARD
TZOFFSETFROM:+0200
TZOFFSETTO:+0100
TZNAME:CET
DTSTART:19701025T030000
RRULE:FREQ=YEARLY;BYDAY=-1SU;BYMONTH=10
END:STANDARD
END:VTIMEZONE
BEGIN:VEVENT
DTEND;TZID=Europe/Berlin:20250820T120000
UID:69e66af0c99e2
DTSTAMP:20260420T200536
LOCATION:Musikschule Havixbeck
DESCRIPTION:Ob Holz- oder Blechblasinstrumente\, Streich-\, Zupf- oder Tasteninstrumente - du kannst jedes Instrument ausprobieren. Du findest heraus\, wie die Töne entstehen und erfährst viele spannende Dinge über einzelne Instrumente.\r\n\r\nTauche ein in die magische Welt der Musik!
URL;VALUE=URI:https://www.unser-ferienprogramm.de/havixbeck/veranstaltung.php?id=275971
SUMMARY:Das Instrumentenkarussell - steige ein und probiere aus
DTSTART;TZID=Europe/Berlin:20250820T090000
END:VEVENT

END:VCALENDAR
