BEGIN:VCALENDAR
VERSION:2.0
PRODID:-//hacksw/handcal//NONSGML v1.0//EN
CALSCALE:GREGORIAN
BEGIN:VTIMEZONE
TZID:Europe/Berlin
X-LIC-LOCATION:Europe/Berlin
BEGIN:DAYLIGHT
TZOFFSETFROM:+0100
TZOFFSETTO:+0200
TZNAME:CEST
DTSTART:19700329T020000
RRULE:FREQ=YEARLY;BYDAY=-1SU;BYMONTH=3
END:DAYLIGHT
BEGIN:STANDARD
TZOFFSETFROM:+0200
TZOFFSETTO:+0100
TZNAME:CET
DTSTART:19701025T030000
RRULE:FREQ=YEARLY;BYDAY=-1SU;BYMONTH=10
END:STANDARD
END:VTIMEZONE
BEGIN:VEVENT
DTEND;TZID=Europe/Berlin:20250716T180000
UID:69e6801be22b1
DTSTAMP:20260420T213555
LOCATION:Der Weingarten (Altenbergerstr. 9a)
DESCRIPTION:Auf die Düfte fertig und los geht´s!\r\nKannst du alle Düfte erraten?\r\nAxel\, der Weinhändler hat eine Kiste mit ganz vielen verschiedenen Düften gefunden und daraus ein spannendes Quiz gemacht.\r\nDich erwarten überraschende Gerüche von "Oh\, wie lecker!" bis hin zu "Ihhh\, das stinkt!".\r\n\r\nWas denkst du\, schaffst du es das Quiz mit deiner guten Spürnase zu gewinnen?
URL;VALUE=URI:https://www.unser-ferienprogramm.de/havixbeck/veranstaltung.php?id=275754
SUMMARY:Spürnasen auf 2 Beinen
DTSTART;TZID=Europe/Berlin:20250716T150000
END:VEVENT

END:VCALENDAR
