BEGIN:VCALENDAR
VERSION:2.0
PRODID:-//hacksw/handcal//NONSGML v1.0//EN
CALSCALE:GREGORIAN
BEGIN:VTIMEZONE
TZID:Europe/Berlin
X-LIC-LOCATION:Europe/Berlin
BEGIN:DAYLIGHT
TZOFFSETFROM:+0100
TZOFFSETTO:+0200
TZNAME:CEST
DTSTART:19700329T020000
RRULE:FREQ=YEARLY;BYDAY=-1SU;BYMONTH=3
END:DAYLIGHT
BEGIN:STANDARD
TZOFFSETFROM:+0200
TZOFFSETTO:+0100
TZNAME:CET
DTSTART:19701025T030000
RRULE:FREQ=YEARLY;BYDAY=-1SU;BYMONTH=10
END:STANDARD
END:VTIMEZONE
BEGIN:VEVENT
DTEND;TZID=Europe/Berlin:20250821T120000
UID:69e66abe6c319
DTSTAMP:20260420T200446
LOCATION:Musikschule Havixbeck
DESCRIPTION:Bist du bereit für ein rhythmisches Abenteuer? In der Musikschule ist der Rhythmuskoffer gepackt und wartet darauf\, von dir ausgepackt zu werden!\r\nIn diesem Workshop lernst Du alle Bereiche des Schlagwerks kennen\, kannst viele Instrumente ausprobieren und erlebt auch deinen eigenen Körper als Rhythmusinstrument. 
URL;VALUE=URI:https://www.unser-ferienprogramm.de/havixbeck/veranstaltung.php?id=275538
SUMMARY:Das Schlagwerk - Trommeln\, Rhythmus und noch mehr
DTSTART;TZID=Europe/Berlin:20250821T090000
END:VEVENT

END:VCALENDAR
