BEGIN:VCALENDAR
VERSION:2.0
PRODID:-//hacksw/handcal//NONSGML v1.0//EN
CALSCALE:GREGORIAN
BEGIN:VTIMEZONE
TZID:Europe/Berlin
X-LIC-LOCATION:Europe/Berlin
BEGIN:DAYLIGHT
TZOFFSETFROM:+0100
TZOFFSETTO:+0200
TZNAME:CEST
DTSTART:19700329T020000
RRULE:FREQ=YEARLY;BYDAY=-1SU;BYMONTH=3
END:DAYLIGHT
BEGIN:STANDARD
TZOFFSETFROM:+0200
TZOFFSETTO:+0100
TZNAME:CET
DTSTART:19701025T030000
RRULE:FREQ=YEARLY;BYDAY=-1SU;BYMONTH=10
END:STANDARD
END:VTIMEZONE
BEGIN:VEVENT
DTEND;TZID=Europe/Berlin:20250804T130000
UID:69e695b30dbce
DTSTAMP:20260420T230803
LOCATION:Sportanlage von Schwarz Weiß Havixbeck\, Althoffsweg 41
DESCRIPTION:Seid dabei und erlebt einen actiongeladenen Tag voller Spaß und unvergesslicher Fußballmomente mit Freunden!\r\n\r\nEuch erwartet ein Fußballturnier auf unseren Kleinspielfeldern\, für alle Kinder ab 6 Jahren.\r\nIhr werdet mit anderen Kindern in Eurem Alter in Gruppen eingeteilt uns spielt gegeneinander. \r\nDabei stehen Euch unsere Trainer mit vielen Tipps\, Engagement und einer ordetnlichen Portion Spaß am Fußball zur Seite.\r\n\r\nUnterstützt wird die Aktion mit Getränken vom Ferein zur Förderung des Fußballsports in Havixbeck.\r\nMitzubringen sind nur Spaß am Fußball :)\r\n\r\nWir freuen uns auf Euch!
URL;VALUE=URI:https://www.unser-ferienprogramm.de/havixbeck/veranstaltung.php?id=274596
SUMMARY:"Kick mit uns: Sommer-Fußballturnier für Kids bei Schwarz-Weiß-Havixbeck!"
DTSTART;TZID=Europe/Berlin:20250804T100000
END:VEVENT

END:VCALENDAR
