BEGIN:VCALENDAR
VERSION:2.0
PRODID:-//hacksw/handcal//NONSGML v1.0//EN
CALSCALE:GREGORIAN
BEGIN:VTIMEZONE
TZID:Europe/Berlin
X-LIC-LOCATION:Europe/Berlin
BEGIN:DAYLIGHT
TZOFFSETFROM:+0100
TZOFFSETTO:+0200
TZNAME:CEST
DTSTART:19700329T020000
RRULE:FREQ=YEARLY;BYDAY=-1SU;BYMONTH=3
END:DAYLIGHT
BEGIN:STANDARD
TZOFFSETFROM:+0200
TZOFFSETTO:+0100
TZNAME:CET
DTSTART:19701025T030000
RRULE:FREQ=YEARLY;BYDAY=-1SU;BYMONTH=10
END:STANDARD
END:VTIMEZONE
BEGIN:VEVENT
DTEND;TZID=Europe/Berlin:20250714T180000
UID:69e66ac5eb1c6
DTSTAMP:20260420T200453
LOCATION:LadenLokal Havixbeck
DESCRIPTION:Wer baut die schönste Sandburg vor dem Ladenlokal?\r\nDu kannst deiner Kreativität freien Lauf lassen. Vom Ladenlokal bekommst du das benötigte Sandspielzeug und Dekoartikel ( Muscheln\, Fähnchen etc.).\r\nSobald du fertig bist\, kannst du den Mitarbeitenden im LadenLokal und Bescheid geben. \r\nDiese machen dann ein Foto von deinem Kunstwerk oder du/ bzw. deine Eltern machen ein Foto und schicken dies an das LadenLokal.\r\nAm Ende der Woche werden die drei besten Burgen prämiert und mit coolen Preisen ausgezeichnet. 
URL;VALUE=URI:https://www.unser-ferienprogramm.de/havixbeck/veranstaltung.php?id=271522
SUMMARY:Sandburgenwettbewerb
DTSTART;TZID=Europe/Berlin:20250714T100000
END:VEVENT


BEGIN:VEVENT
DTEND;TZID=Europe/Berlin:20250715T180000
UID:69e66ac5eb20b1
DTSTAMP:20260420T200453
LOCATION:LadenLokal Havixbeck
DESCRIPTION:Wer baut die schönste Sandburg vor dem Ladenlokal?\r\nDu kannst deiner Kreativität freien Lauf lassen. Vom Ladenlokal bekommst du das benötigte Sandspielzeug und Dekoartikel ( Muscheln\, Fähnchen etc.).\r\nSobald du fertig bist\, kannst du den Mitarbeitenden im LadenLokal und Bescheid geben. \r\nDiese machen dann ein Foto von deinem Kunstwerk oder du/ bzw. deine Eltern machen ein Foto und schicken dies an das LadenLokal.\r\nAm Ende der Woche werden die drei besten Burgen prämiert und mit coolen Preisen ausgezeichnet. 
URL;VALUE=URI:https://www.unser-ferienprogramm.de/havixbeck/veranstaltung.php?id=271522
SUMMARY:Sandburgenwettbewerb
DTSTART;TZID=Europe/Berlin:20250715T100000
END:VEVENT


BEGIN:VEVENT
DTEND;TZID=Europe/Berlin:20250716T180000
UID:69e66ac5eb2182
DTSTAMP:20260420T200453
LOCATION:LadenLokal Havixbeck
DESCRIPTION:Wer baut die schönste Sandburg vor dem Ladenlokal?\r\nDu kannst deiner Kreativität freien Lauf lassen. Vom Ladenlokal bekommst du das benötigte Sandspielzeug und Dekoartikel ( Muscheln\, Fähnchen etc.).\r\nSobald du fertig bist\, kannst du den Mitarbeitenden im LadenLokal und Bescheid geben. \r\nDiese machen dann ein Foto von deinem Kunstwerk oder du/ bzw. deine Eltern machen ein Foto und schicken dies an das LadenLokal.\r\nAm Ende der Woche werden die drei besten Burgen prämiert und mit coolen Preisen ausgezeichnet. 
URL;VALUE=URI:https://www.unser-ferienprogramm.de/havixbeck/veranstaltung.php?id=271522
SUMMARY:Sandburgenwettbewerb
DTSTART;TZID=Europe/Berlin:20250716T100000
END:VEVENT


BEGIN:VEVENT
DTEND;TZID=Europe/Berlin:20250717T180000
UID:69e66ac5eb2233
DTSTAMP:20260420T200453
LOCATION:LadenLokal Havixbeck
DESCRIPTION:Wer baut die schönste Sandburg vor dem Ladenlokal?\r\nDu kannst deiner Kreativität freien Lauf lassen. Vom Ladenlokal bekommst du das benötigte Sandspielzeug und Dekoartikel ( Muscheln\, Fähnchen etc.).\r\nSobald du fertig bist\, kannst du den Mitarbeitenden im LadenLokal und Bescheid geben. \r\nDiese machen dann ein Foto von deinem Kunstwerk oder du/ bzw. deine Eltern machen ein Foto und schicken dies an das LadenLokal.\r\nAm Ende der Woche werden die drei besten Burgen prämiert und mit coolen Preisen ausgezeichnet. 
URL;VALUE=URI:https://www.unser-ferienprogramm.de/havixbeck/veranstaltung.php?id=271522
SUMMARY:Sandburgenwettbewerb
DTSTART;TZID=Europe/Berlin:20250717T100000
END:VEVENT


BEGIN:VEVENT
DTEND;TZID=Europe/Berlin:20250718T180000
UID:69e66ac5eb22c4
DTSTAMP:20260420T200453
LOCATION:LadenLokal Havixbeck
DESCRIPTION:Wer baut die schönste Sandburg vor dem Ladenlokal?\r\nDu kannst deiner Kreativität freien Lauf lassen. Vom Ladenlokal bekommst du das benötigte Sandspielzeug und Dekoartikel ( Muscheln\, Fähnchen etc.).\r\nSobald du fertig bist\, kannst du den Mitarbeitenden im LadenLokal und Bescheid geben. \r\nDiese machen dann ein Foto von deinem Kunstwerk oder du/ bzw. deine Eltern machen ein Foto und schicken dies an das LadenLokal.\r\nAm Ende der Woche werden die drei besten Burgen prämiert und mit coolen Preisen ausgezeichnet. 
URL;VALUE=URI:https://www.unser-ferienprogramm.de/havixbeck/veranstaltung.php?id=271522
SUMMARY:Sandburgenwettbewerb
DTSTART;TZID=Europe/Berlin:20250718T100000
END:VEVENT

END:VCALENDAR
