BEGIN:VCALENDAR
VERSION:2.0
PRODID:-//hacksw/handcal//NONSGML v1.0//EN
CALSCALE:GREGORIAN
BEGIN:VTIMEZONE
TZID:Europe/Berlin
X-LIC-LOCATION:Europe/Berlin
BEGIN:DAYLIGHT
TZOFFSETFROM:+0100
TZOFFSETTO:+0200
TZNAME:CEST
DTSTART:19700329T020000
RRULE:FREQ=YEARLY;BYDAY=-1SU;BYMONTH=3
END:DAYLIGHT
BEGIN:STANDARD
TZOFFSETFROM:+0200
TZOFFSETTO:+0100
TZNAME:CET
DTSTART:19701025T030000
RRULE:FREQ=YEARLY;BYDAY=-1SU;BYMONTH=10
END:STANDARD
END:VTIMEZONE
BEGIN:VEVENT
DTEND;TZID=Europe/Berlin:20250825T140000
UID:69e67f4d48ca8
DTSTAMP:20260420T213229
LOCATION:LadenLokal Havixbeck
DESCRIPTION:Alle Fans der japanischen Mangas sind eingeladen\, um ihre Comics auszutauschen und die Zeichentechnik der Mangas auszuprobieren
URL;VALUE=URI:https://www.unser-ferienprogramm.de/havixbeck/veranstaltung.php?id=270990
SUMMARY:Manga Day 
DTSTART;TZID=Europe/Berlin:20250825T100000
END:VEVENT

END:VCALENDAR
