BEGIN:VCALENDAR
VERSION:2.0
PRODID:-//hacksw/handcal//NONSGML v1.0//EN
CALSCALE:GREGORIAN
BEGIN:VTIMEZONE
TZID:Europe/Berlin
X-LIC-LOCATION:Europe/Berlin
BEGIN:DAYLIGHT
TZOFFSETFROM:+0100
TZOFFSETTO:+0200
TZNAME:CEST
DTSTART:19700329T020000
RRULE:FREQ=YEARLY;BYDAY=-1SU;BYMONTH=3
END:DAYLIGHT
BEGIN:STANDARD
TZOFFSETFROM:+0200
TZOFFSETTO:+0100
TZNAME:CET
DTSTART:19701025T030000
RRULE:FREQ=YEARLY;BYDAY=-1SU;BYMONTH=10
END:STANDARD
END:VTIMEZONE
BEGIN:VEVENT
DTEND;TZID=Europe/Berlin:20250818T180000
UID:69e67fa4c95b6
DTSTAMP:20260420T213356
LOCATION:LadenLokal Havixbeck
DESCRIPTION:Die Kinder und Jugendlichen können die ganze Woche über in Zweier-Teams im LadenLokal gegen das Team der Mitarbeitenden oder gegen andere anwesende Teams spielen.\r\nEs gibt Punkte für die gespielten Spiele und die Anzahl der Siege. Das Ranking ist auf einer fortlaufenden Tabelle im Ladenlokal die Woche über zu verfolgen.\r\nDie vier besten Teams werden zu einem Finalturnier eingeladen\, bei dem es attraktive Preise zu gewinnen gibt.\r\n
URL;VALUE=URI:https://www.unser-ferienprogramm.de/havixbeck/veranstaltung.php?id=270989
SUMMARY:Kickerturnier
DTSTART;TZID=Europe/Berlin:20250818T100000
END:VEVENT


BEGIN:VEVENT
DTEND;TZID=Europe/Berlin:20250819T180000
UID:69e67fa4c95ce1
DTSTAMP:20260420T213356
LOCATION:LadenLokal Havixbeck
DESCRIPTION:Die Kinder und Jugendlichen können die ganze Woche über in Zweier-Teams im LadenLokal gegen das Team der Mitarbeitenden oder gegen andere anwesende Teams spielen.\r\nEs gibt Punkte für die gespielten Spiele und die Anzahl der Siege. Das Ranking ist auf einer fortlaufenden Tabelle im Ladenlokal die Woche über zu verfolgen.\r\nDie vier besten Teams werden zu einem Finalturnier eingeladen\, bei dem es attraktive Preise zu gewinnen gibt.\r\n
URL;VALUE=URI:https://www.unser-ferienprogramm.de/havixbeck/veranstaltung.php?id=270989
SUMMARY:Kickerturnier
DTSTART;TZID=Europe/Berlin:20250819T100000
END:VEVENT


BEGIN:VEVENT
DTEND;TZID=Europe/Berlin:20250820T180000
UID:69e67fa4c95db2
DTSTAMP:20260420T213356
LOCATION:LadenLokal Havixbeck
DESCRIPTION:Die Kinder und Jugendlichen können die ganze Woche über in Zweier-Teams im LadenLokal gegen das Team der Mitarbeitenden oder gegen andere anwesende Teams spielen.\r\nEs gibt Punkte für die gespielten Spiele und die Anzahl der Siege. Das Ranking ist auf einer fortlaufenden Tabelle im Ladenlokal die Woche über zu verfolgen.\r\nDie vier besten Teams werden zu einem Finalturnier eingeladen\, bei dem es attraktive Preise zu gewinnen gibt.\r\n
URL;VALUE=URI:https://www.unser-ferienprogramm.de/havixbeck/veranstaltung.php?id=270989
SUMMARY:Kickerturnier
DTSTART;TZID=Europe/Berlin:20250820T100000
END:VEVENT


BEGIN:VEVENT
DTEND;TZID=Europe/Berlin:20250821T180000
UID:69e67fa4c95e63
DTSTAMP:20260420T213356
LOCATION:LadenLokal Havixbeck
DESCRIPTION:Die Kinder und Jugendlichen können die ganze Woche über in Zweier-Teams im LadenLokal gegen das Team der Mitarbeitenden oder gegen andere anwesende Teams spielen.\r\nEs gibt Punkte für die gespielten Spiele und die Anzahl der Siege. Das Ranking ist auf einer fortlaufenden Tabelle im Ladenlokal die Woche über zu verfolgen.\r\nDie vier besten Teams werden zu einem Finalturnier eingeladen\, bei dem es attraktive Preise zu gewinnen gibt.\r\n
URL;VALUE=URI:https://www.unser-ferienprogramm.de/havixbeck/veranstaltung.php?id=270989
SUMMARY:Kickerturnier
DTSTART;TZID=Europe/Berlin:20250821T100000
END:VEVENT


BEGIN:VEVENT
DTEND;TZID=Europe/Berlin:20250822T180000
UID:69e67fa4c95ef4
DTSTAMP:20260420T213356
LOCATION:LadenLokal Havixbeck
DESCRIPTION:Die Kinder und Jugendlichen können die ganze Woche über in Zweier-Teams im LadenLokal gegen das Team der Mitarbeitenden oder gegen andere anwesende Teams spielen.\r\nEs gibt Punkte für die gespielten Spiele und die Anzahl der Siege. Das Ranking ist auf einer fortlaufenden Tabelle im Ladenlokal die Woche über zu verfolgen.\r\nDie vier besten Teams werden zu einem Finalturnier eingeladen\, bei dem es attraktive Preise zu gewinnen gibt.\r\n
URL;VALUE=URI:https://www.unser-ferienprogramm.de/havixbeck/veranstaltung.php?id=270989
SUMMARY:Kickerturnier
DTSTART;TZID=Europe/Berlin:20250822T100000
END:VEVENT

END:VCALENDAR
