BEGIN:VCALENDAR
VERSION:2.0
PRODID:-//hacksw/handcal//NONSGML v1.0//EN
CALSCALE:GREGORIAN
BEGIN:VTIMEZONE
TZID:Europe/Berlin
X-LIC-LOCATION:Europe/Berlin
BEGIN:DAYLIGHT
TZOFFSETFROM:+0100
TZOFFSETTO:+0200
TZNAME:CEST
DTSTART:19700329T020000
RRULE:FREQ=YEARLY;BYDAY=-1SU;BYMONTH=3
END:DAYLIGHT
BEGIN:STANDARD
TZOFFSETFROM:+0200
TZOFFSETTO:+0100
TZNAME:CET
DTSTART:19701025T030000
RRULE:FREQ=YEARLY;BYDAY=-1SU;BYMONTH=10
END:STANDARD
END:VTIMEZONE
BEGIN:VEVENT
DTEND;TZID=Europe/Berlin:20250820T120000
UID:69e6807c7f6de
DTSTAMP:20260420T213732
LOCATION:Baumberge Dreifach Sporthalle
DESCRIPTION:Heute läuft alles ganz unter dem Motto: \r\n"Bälle\, Tücher und vieles mehr... Wir lassen so einiges durch die Luft fliegen!"\r\nIm Zirkus\, TV oder im Park hast du es bestimmt schon oft gesehen... Menschen die mit verschiedenen Gegenständen jonglieren. Aaron kann das auch und das sogar verdammt gut! Er nimmt sich Zeit\, um euch zu zeigen\, wie das Jonglieren funktioniert. \r\nAlso hast du Lust? Dann melde dich schnell an! \r\n\r\nDiese Aktion wird durch den Kulturrucksack NRW gefördert.
URL;VALUE=URI:https://www.unser-ferienprogramm.de/havixbeck/veranstaltung.php?id=227386
SUMMARY:Ich kann was!- Jonglieren mit Aaron
DTSTART;TZID=Europe/Berlin:20250820T100000
END:VEVENT

END:VCALENDAR
