BEGIN:VCALENDAR
VERSION:2.0
PRODID:-//hacksw/handcal//NONSGML v1.0//EN
CALSCALE:GREGORIAN
BEGIN:VTIMEZONE
TZID:Europe/Berlin
X-LIC-LOCATION:Europe/Berlin
BEGIN:DAYLIGHT
TZOFFSETFROM:+0100
TZOFFSETTO:+0200
TZNAME:CEST
DTSTART:19700329T020000
RRULE:FREQ=YEARLY;BYDAY=-1SU;BYMONTH=3
END:DAYLIGHT
BEGIN:STANDARD
TZOFFSETFROM:+0200
TZOFFSETTO:+0100
TZNAME:CET
DTSTART:19701025T030000
RRULE:FREQ=YEARLY;BYDAY=-1SU;BYMONTH=10
END:STANDARD
END:VTIMEZONE
BEGIN:VEVENT
DTEND;TZID=Europe/Berlin:20250730T171500
UID:69e68189d0a33
DTSTAMP:20260420T214201
LOCATION:Evangelisches Kinder und Jugendzentrum Havixbeck
DESCRIPTION:Ihr kennt es bestimmt alle... plötzlich ist ein Loch oder ein Fleck im Kleidungsstück... und ab geht es in den Müll...\r\nAber nicht heute! \r\nHeute heißt es UPCYCLING!\r\n\r\nWir nehmen die Challenge an und machen gemeinsam mit dir ein echtes Unikat.\r\nMit Plotter\, Perlen\, Stoffen und Farben wird es so richtig bunt!\r\nBring einfach ein oder zwei Oberteile oder alte Jutebeutel mit\, die du gerne aufhübschen möchtest!\r\n\r\nDieses Angebot wird über den Kulturrucksack NRW gefördert!
URL;VALUE=URI:https://www.unser-ferienprogramm.de/havixbeck/veranstaltung.php?id=220978
SUMMARY:Sticker\, Perlen und noch mehr - Wir hübschen deine Kleidung auf
DTSTART;TZID=Europe/Berlin:20250730T150000
END:VEVENT

END:VCALENDAR
