BEGIN:VCALENDAR
VERSION:2.0
PRODID:-//hacksw/handcal//NONSGML v1.0//EN
CALSCALE:GREGORIAN
BEGIN:VTIMEZONE
TZID:Europe/Berlin
X-LIC-LOCATION:Europe/Berlin
BEGIN:DAYLIGHT
TZOFFSETFROM:+0100
TZOFFSETTO:+0200
TZNAME:CEST
DTSTART:19700329T020000
RRULE:FREQ=YEARLY;BYDAY=-1SU;BYMONTH=3
END:DAYLIGHT
BEGIN:STANDARD
TZOFFSETFROM:+0200
TZOFFSETTO:+0100
TZNAME:CET
DTSTART:19701025T030000
RRULE:FREQ=YEARLY;BYDAY=-1SU;BYMONTH=10
END:STANDARD
END:VTIMEZONE
BEGIN:VEVENT
DTEND;TZID=Europe/Berlin:20250714T163000
UID:69e66a4e4f0e5
DTSTAMP:20260420T200254
LOCATION:Evangelisches Kinder und Jugendzentrum Havixbeck
DESCRIPTION:Heute wird es richtig bunt!! \r\nWir gestalten große Leinwände und das mal ganz anders. Dieses mal werden die Farben geworfen und gespritzt oder auch mit den Händen verteilt! Du kannst dich mal so richtig austoben und ein wirklich individuelles Kunstwerk erstellen. \r\nAlso: Auf die Farben fertig und los geht´s!\r\n\r\n!!!! Zieht bitte ALTE Sachen an !!!!\r\n\r\n
URL;VALUE=URI:https://www.unser-ferienprogramm.de/havixbeck/veranstaltung.php?id=220175
SUMMARY:bunter\, wilder und verrückter - Actionpainting
DTSTART;TZID=Europe/Berlin:20250714T143000
END:VEVENT

END:VCALENDAR
