BEGIN:VCALENDAR
VERSION:2.0
PRODID:-//hacksw/handcal//NONSGML v1.0//EN
CALSCALE:GREGORIAN
BEGIN:VTIMEZONE
TZID:Europe/Berlin
X-LIC-LOCATION:Europe/Berlin
BEGIN:DAYLIGHT
TZOFFSETFROM:+0100
TZOFFSETTO:+0200
TZNAME:CEST
DTSTART:19700329T020000
RRULE:FREQ=YEARLY;BYDAY=-1SU;BYMONTH=3
END:DAYLIGHT
BEGIN:STANDARD
TZOFFSETFROM:+0200
TZOFFSETTO:+0100
TZNAME:CET
DTSTART:19701025T030000
RRULE:FREQ=YEARLY;BYDAY=-1SU;BYMONTH=10
END:STANDARD
END:VTIMEZONE
BEGIN:VEVENT
DTEND;TZID=Europe/Berlin:20250805T170000
UID:69e67f02bc21e
DTSTAMP:20260420T213114
LOCATION:Evangelisches Kinder und Jugendzentrum Havixbeck
DESCRIPTION:Ich hab ne Zwiebel auf dem Kopf... \r\nHeute kommt die Zwiebel (wenn du magst) mit in den Döner und nicht auf den Kopf. Aber wer weiß schon\, was bei einer Küchenschlacht so passiert...\r\nGemeinsam machen wir Döner. Das Fleisch muss gewürzt und aufgespießt werden. Das Gemüse muss geschnitten\, die Soße angerührt und das Brot aufgebacken werden.\r\n(Vegetarisch geht natürlich auch \;)) \r\n
URL;VALUE=URI:https://www.unser-ferienprogramm.de/havixbeck/veranstaltung.php?id=220166
SUMMARY:Küchenschlacht -wir machen Hähnchendöner
DTSTART;TZID=Europe/Berlin:20250805T143000
END:VEVENT

END:VCALENDAR
