BEGIN:VCALENDAR
VERSION:2.0
PRODID:-//hacksw/handcal//NONSGML v1.0//EN
CALSCALE:GREGORIAN
BEGIN:VTIMEZONE
TZID:Europe/Berlin
X-LIC-LOCATION:Europe/Berlin
BEGIN:DAYLIGHT
TZOFFSETFROM:+0100
TZOFFSETTO:+0200
TZNAME:CEST
DTSTART:19700329T020000
RRULE:FREQ=YEARLY;BYDAY=-1SU;BYMONTH=3
END:DAYLIGHT
BEGIN:STANDARD
TZOFFSETFROM:+0200
TZOFFSETTO:+0100
TZNAME:CET
DTSTART:19701025T030000
RRULE:FREQ=YEARLY;BYDAY=-1SU;BYMONTH=10
END:STANDARD
END:VTIMEZONE
BEGIN:VEVENT
DTEND;TZID=Europe/Berlin:20250716T160000
UID:69e66a4cc8a90
DTSTAMP:20260420T200252
LOCATION:EVA-Evangelisches Kinder- und Jugendzentrum\, Schulstraße 12
DESCRIPTION:Fluffy\, Galaxy oder Floam Slime - gemeinsam mixen wir dir deine einzigartigen Schleime für Zuhause!
URL;VALUE=URI:https://www.unser-ferienprogramm.de/havixbeck/veranstaltung.php?id=220152
SUMMARY:Slime\, Slime und noch mehr Slime!
DTSTART;TZID=Europe/Berlin:20250716T140000
END:VEVENT

END:VCALENDAR
