BEGIN:VCALENDAR
VERSION:2.0
PRODID:-//hacksw/handcal//NONSGML v1.0//EN
CALSCALE:GREGORIAN
BEGIN:VTIMEZONE
TZID:Europe/Berlin
X-LIC-LOCATION:Europe/Berlin
BEGIN:DAYLIGHT
TZOFFSETFROM:+0100
TZOFFSETTO:+0200
TZNAME:CEST
DTSTART:19700329T020000
RRULE:FREQ=YEARLY;BYDAY=-1SU;BYMONTH=3
END:DAYLIGHT
BEGIN:STANDARD
TZOFFSETFROM:+0200
TZOFFSETTO:+0100
TZNAME:CET
DTSTART:19701025T030000
RRULE:FREQ=YEARLY;BYDAY=-1SU;BYMONTH=10
END:STANDARD
END:VTIMEZONE
BEGIN:VEVENT
DTEND;TZID=Europe/Berlin:20250729T190000
UID:69e680146e937
DTSTAMP:20260420T213548
LOCATION:Freibad
DESCRIPTION:Ihr seid eingeladen\, an jedem Dienstag in den Ferien nach Herzenslust zu schwimmen und zu spielen. Der Eintritt ist frei!!! Gern könnt ihr dabei eure eigenen oder die vom Freibad/DLRG zur Verfügung gestellten Schwimmtiere\, Bälle\, Matratzen... benutzen. Also\, eine herzliche Einladung an alle Wasserratten oder die\, die es noch werden wollen!
URL;VALUE=URI:https://www.unser-ferienprogramm.de/havixbeck/veranstaltung.php?id=216244
SUMMARY:Spiel & Spaß im Wasser
DTSTART;TZID=Europe/Berlin:20250729T173000
END:VEVENT

END:VCALENDAR
