BEGIN:VCALENDAR
VERSION:2.0
PRODID:-//hacksw/handcal//NONSGML v1.0//EN
CALSCALE:GREGORIAN
BEGIN:VTIMEZONE
TZID:Europe/Berlin
X-LIC-LOCATION:Europe/Berlin
BEGIN:DAYLIGHT
TZOFFSETFROM:+0100
TZOFFSETTO:+0200
TZNAME:CEST
DTSTART:19700329T020000
RRULE:FREQ=YEARLY;BYDAY=-1SU;BYMONTH=3
END:DAYLIGHT
BEGIN:STANDARD
TZOFFSETFROM:+0200
TZOFFSETTO:+0100
TZNAME:CET
DTSTART:19701025T030000
RRULE:FREQ=YEARLY;BYDAY=-1SU;BYMONTH=10
END:STANDARD
END:VTIMEZONE
BEGIN:VEVENT
DTEND;TZID=Europe/Berlin:20250801T113000
UID:69e6801ce2d9b
DTSTAMP:20260420T213556
LOCATION:Schutzhütte Habichtspark
DESCRIPTION:Der Falkner Georg Hüging wird euch  Lebensweise\, Beutespektrum\, Flug- u. Jagdtechniken eines Greifvogels\, die Ausrüstung des Falkners\, die Jagdhilfen Frettchen oder Hund und die Falknerei speziell in Städten und auf dem Land anschaulich erklären. Auch die Flugvorführung des Bussards und ein kleines Quiz versprechen interessante und spannende Momente und runden diese aktive Erlebniszeit mit den Tieren ab.\r\n\r\nTaucht ein in die faszinierende Welt der Falknerei- ein lebendiges Weltkulturerbe mit jahrhundertealter Tradition!\r\nOb auf dem Land oder mitten in der Stadt- das Training mit Greifvögeln ist überall möglich.\r\nHeute habt ihr die Chance den Falkner Georg Hüging mit seinen Tieren kennenzulernen. Mit im Gepäck hat er außerdem mitreißende Erzählungen und fachkundiges Wissen.\r\nSeid dabei und spürt die Magie\, wenn ein Greifvogel durch die Luft gleitet - kraftvoll\, majestätisch und doch im Einklang mit dem Menschen.
URL;VALUE=URI:https://www.unser-ferienprogramm.de/havixbeck/veranstaltung.php?id=174223
SUMMARY:König der Lüfte - Falknerei erleben - Wissen\, Leidenschaft\, Greifvogel
DTSTART;TZID=Europe/Berlin:20250801T100000
END:VEVENT

END:VCALENDAR
