BEGIN:VCALENDAR
VERSION:2.0
PRODID:-//hacksw/handcal//NONSGML v1.0//EN
CALSCALE:GREGORIAN
BEGIN:VTIMEZONE
TZID:Europe/Berlin
X-LIC-LOCATION:Europe/Berlin
BEGIN:DAYLIGHT
TZOFFSETFROM:+0100
TZOFFSETTO:+0200
TZNAME:CEST
DTSTART:19700329T020000
RRULE:FREQ=YEARLY;BYDAY=-1SU;BYMONTH=3
END:DAYLIGHT
BEGIN:STANDARD
TZOFFSETFROM:+0200
TZOFFSETTO:+0100
TZNAME:CET
DTSTART:19701025T030000
RRULE:FREQ=YEARLY;BYDAY=-1SU;BYMONTH=10
END:STANDARD
END:VTIMEZONE
BEGIN:VEVENT
DTEND;TZID=Europe/Berlin:20250814T120000
UID:69e6808b0d67d
DTSTAMP:20260420T213747
LOCATION:Schulhof Anne-Frank-Gesamtschule
DESCRIPTION:Wie schon in den vielen Jahren zuvor\, bietet euch die Inline-Skate-Schule Münsterland wieder einen Inliner-Technik-Kurs an. Ihr lernt hier das sichere Stehen\, das Kurvenfahren und Ausweichen\, das richtige Bremsen sowie das kontrollierte Hinfallen und Aufstehen. Also alles\, was Anfänger und Fortgeschrittene zum sicheren Fahren brauchen! Einige kleine Spiele\, Partneraufgaben und viele Geschicklichkeitsübungen wie Slalomfahren und Tipps und Regeln im Straßenverkehr runden das Programm ab. Jeder von euch erhält nachher einen Inline-Führerschein.
URL;VALUE=URI:https://www.unser-ferienprogramm.de/havixbeck/veranstaltung.php?id=174220
SUMMARY:Wir bringen euch sicher auf die Rollen
DTSTART;TZID=Europe/Berlin:20250814T100000
END:VEVENT

END:VCALENDAR
