BEGIN:VCALENDAR
VERSION:2.0
PRODID:-//hacksw/handcal//NONSGML v1.0//EN
CALSCALE:GREGORIAN
BEGIN:VTIMEZONE
TZID:Europe/Berlin
X-LIC-LOCATION:Europe/Berlin
BEGIN:DAYLIGHT
TZOFFSETFROM:+0100
TZOFFSETTO:+0200
TZNAME:CEST
DTSTART:19700329T020000
RRULE:FREQ=YEARLY;BYDAY=-1SU;BYMONTH=3
END:DAYLIGHT
BEGIN:STANDARD
TZOFFSETFROM:+0200
TZOFFSETTO:+0100
TZNAME:CET
DTSTART:19701025T030000
RRULE:FREQ=YEARLY;BYDAY=-1SU;BYMONTH=10
END:STANDARD
END:VTIMEZONE
BEGIN:VEVENT
DTEND;TZID=Europe/Berlin:20250714T181500
UID:69e66a8b09048
DTSTAMP:20260420T200355
LOCATION:Kalari Center\, Altenberger Straße 12
DESCRIPTION:Kampfkunstunterricht für Kinder fördert die Konzentrationsfähigkeit\, verbessert die Körperspannung und das Körpergefühl\, fördert das Sozialverhalten\, vermeidet Gewalt im Alltag und vermittelt Werte. Kalaripayattu kommt aus Indien und gilt als älteste Kampfkunst der Welt. Der Unterricht  besteht aus einer Mischung aus traditionellen Bewegungen und Bewegungsabläufen\, praxisbezogener Selbstverteidigung und spielerischen Übungen für Körper und Geist.
URL;VALUE=URI:https://www.unser-ferienprogramm.de/havixbeck/veranstaltung.php?id=173548
SUMMARY:Kalaripayattu-Kampfkunst für Kinder
DTSTART;TZID=Europe/Berlin:20250714T171500
END:VEVENT

END:VCALENDAR
