BEGIN:VCALENDAR
VERSION:2.0
PRODID:-//hacksw/handcal//NONSGML v1.0//EN
CALSCALE:GREGORIAN
BEGIN:VTIMEZONE
TZID:Europe/Berlin
X-LIC-LOCATION:Europe/Berlin
BEGIN:DAYLIGHT
TZOFFSETFROM:+0100
TZOFFSETTO:+0200
TZNAME:CEST
DTSTART:19700329T020000
RRULE:FREQ=YEARLY;BYDAY=-1SU;BYMONTH=3
END:DAYLIGHT
BEGIN:STANDARD
TZOFFSETFROM:+0200
TZOFFSETTO:+0100
TZNAME:CET
DTSTART:19701025T030000
RRULE:FREQ=YEARLY;BYDAY=-1SU;BYMONTH=10
END:STANDARD
END:VTIMEZONE
BEGIN:VEVENT
DTEND;TZID=Europe/Berlin:20250816T120000
UID:69e695f617c88
DTSTAMP:20260420T230910
LOCATION:Hof Henrichmann\, Walingen 2\, 48329 Havixbeck
DESCRIPTION:Das Schnupperangeln beginnt mit einer kurzen Information über die Gewässer und die darin lebenden Tiere und Pflanzen. Anschließend dürft ihr selber angeln. Eigenes Angelgerät kann mitgebracht werden\, ansonsten stehen Ruten und Zubehör zur Verfügung. Die Angler des Fischereivereins leisten Hilfestellung und zeigen den waidgerechten Umgang mit den Tieren. Nach dem Angeln informieren wir euch bei einer Grillwurst und Getränken über unsere Arbeit im Fischereiverein Havixbeck und wie man Angler wird. Auf geht`s !
URL;VALUE=URI:https://www.unser-ferienprogramm.de/havixbeck/veranstaltung.php?id=173068
SUMMARY:Angeln als Hobby - ein Schnupperworkshop
DTSTART;TZID=Europe/Berlin:20250816T090000
END:VEVENT

END:VCALENDAR
