BEGIN:VCALENDAR
VERSION:2.0
PRODID:-//hacksw/handcal//NONSGML v1.0//EN
CALSCALE:GREGORIAN
BEGIN:VTIMEZONE
TZID:Europe/Berlin
X-LIC-LOCATION:Europe/Berlin
BEGIN:DAYLIGHT
TZOFFSETFROM:+0100
TZOFFSETTO:+0200
TZNAME:CEST
DTSTART:19700329T020000
RRULE:FREQ=YEARLY;BYDAY=-1SU;BYMONTH=3
END:DAYLIGHT
BEGIN:STANDARD
TZOFFSETFROM:+0200
TZOFFSETTO:+0100
TZNAME:CET
DTSTART:19701025T030000
RRULE:FREQ=YEARLY;BYDAY=-1SU;BYMONTH=10
END:STANDARD
END:VTIMEZONE
BEGIN:VEVENT
DTEND;TZID=Europe/Berlin:20250805T120000
UID:69e67ffe9dc5b
DTSTAMP:20260420T213526
LOCATION:Hof Kentrup & Seeber\, Poppenbeck 22
DESCRIPTION:Schnuppere einen Vormittag \,\,Hofluft" bei uns. Lerne alle unsere Tiere kennen - Pferde\, Ziegen\, Katzen\, Hühner und Enten warten auf dich! Wie leben sie und was benötigen sie für ein gutes Leben?\r\nWir werden die Tiere füttern\, sie gemeinsam beobachten und mehr über sie erfahren.\r\nGemeinsam Picknicken wir auf der Wiese\, außerdem ist Zeit zum Spielen\r\n\r\n!!!Ein Picknick ist selbst mitzubringen!!!
URL;VALUE=URI:https://www.unser-ferienprogramm.de/havixbeck/veranstaltung.php?id=170865
SUMMARY:Bauernhoftiere und Picknick
DTSTART;TZID=Europe/Berlin:20250805T100000
END:VEVENT

END:VCALENDAR
