BEGIN:VCALENDAR
VERSION:2.0
PRODID:-//hacksw/handcal//NONSGML v1.0//EN
CALSCALE:GREGORIAN
BEGIN:VTIMEZONE
TZID:Europe/Berlin
X-LIC-LOCATION:Europe/Berlin
BEGIN:DAYLIGHT
TZOFFSETFROM:+0100
TZOFFSETTO:+0200
TZNAME:CEST
DTSTART:19700329T020000
RRULE:FREQ=YEARLY;BYDAY=-1SU;BYMONTH=3
END:DAYLIGHT
BEGIN:STANDARD
TZOFFSETFROM:+0200
TZOFFSETTO:+0100
TZNAME:CET
DTSTART:19701025T030000
RRULE:FREQ=YEARLY;BYDAY=-1SU;BYMONTH=10
END:STANDARD
END:VTIMEZONE
BEGIN:VEVENT
DTEND;TZID=Europe/Berlin:20250724T120000
UID:69e68189733a8
DTSTAMP:20260420T214201
LOCATION:Schul- und Gemeindebibliothek
DESCRIPTION:Mit unserem Green Screen könnt Ihr Eurer Kreativität freien Lauf lassen und coole Fotos zaubern! Gestaltet Euren Hintergrund ganz nach Lust und Laune - ob ferne Galaxien\, geheimnisvolle Dschungel oder bunte Fantasiewelten\, alles ist möglich. Euer Lieblingsbild könnt Ihr direkt vor Ort ausdrucken und als tolle Erinnerung mit nach Hause nehmen\, Das Team der Bibliothek steht Euch dabei natürlich mit Rat und Tat zur Seite!
URL;VALUE=URI:https://www.unser-ferienprogramm.de/havixbeck/veranstaltung.php?id=169436
SUMMARY:Greenscreen - erstelle Videos und Fotos
DTSTART;TZID=Europe/Berlin:20250724T100000
END:VEVENT

END:VCALENDAR
