BEGIN:VCALENDAR
VERSION:2.0
PRODID:-//hacksw/handcal//NONSGML v1.0//EN
CALSCALE:GREGORIAN
BEGIN:VTIMEZONE
TZID:Europe/Berlin
X-LIC-LOCATION:Europe/Berlin
BEGIN:DAYLIGHT
TZOFFSETFROM:+0100
TZOFFSETTO:+0200
TZNAME:CEST
DTSTART:19700329T020000
RRULE:FREQ=YEARLY;BYDAY=-1SU;BYMONTH=3
END:DAYLIGHT
BEGIN:STANDARD
TZOFFSETFROM:+0200
TZOFFSETTO:+0100
TZNAME:CET
DTSTART:19701025T030000
RRULE:FREQ=YEARLY;BYDAY=-1SU;BYMONTH=10
END:STANDARD
END:VTIMEZONE
BEGIN:VEVENT
DTEND;TZID=Europe/Berlin:20250812T160000
UID:69e67fdcdfb3f
DTSTAMP:20260420T213452
LOCATION:Stift Tilbeck
DESCRIPTION:Du wolltest schon immer mal an Orte\, die sonst öffentlich nicht zugänglich sind?\r\nReinhard Nieweler\, der Ehrenamtskoordinator des Stiftes\, nimmt einen großen Schlüsselbund mit und führt euch und gern auch interessierte Eltern\, Großeltern\, … an ungewöhnliche unter- und oberirdische Orte des Stiftes\, zum Beispiel: Dachgeschoss der Kapelle\, Geheimgang zum Hildegard-Gebäude\, Kellergewölbe im Altbau\, …\r\n\r\nWer noch Lust und Zeit hat\, kann sich nach der Führung „auf eigene Faust“ auf dem Hüpfkissen am Café austoben oder den Barfußgang erkunden.\r\n\r\nEines ist klar: Ein abenteuerlicher Ausflugsnachmittag auf dem Gelände des Stiftes Tilbeck ist garantiert!!!\r\n\r\n(Treffpunkt: Am Wasserturm)
URL;VALUE=URI:https://www.unser-ferienprogramm.de/havixbeck/veranstaltung.php?id=132890
SUMMARY:Hinter den Kulissen - Führung durch Stift Tilbeck
DTSTART;TZID=Europe/Berlin:20250812T140000
END:VEVENT

END:VCALENDAR
