BEGIN:VCALENDAR
VERSION:2.0
PRODID:-//hacksw/handcal//NONSGML v1.0//EN
CALSCALE:GREGORIAN
BEGIN:VTIMEZONE
TZID:Europe/Berlin
X-LIC-LOCATION:Europe/Berlin
BEGIN:DAYLIGHT
TZOFFSETFROM:+0100
TZOFFSETTO:+0200
TZNAME:CEST
DTSTART:19700329T020000
RRULE:FREQ=YEARLY;BYDAY=-1SU;BYMONTH=3
END:DAYLIGHT
BEGIN:STANDARD
TZOFFSETFROM:+0200
TZOFFSETTO:+0100
TZNAME:CET
DTSTART:19701025T030000
RRULE:FREQ=YEARLY;BYDAY=-1SU;BYMONTH=10
END:STANDARD
END:VTIMEZONE
BEGIN:VEVENT
DTEND;TZID=Europe/Berlin:20250822T163000
UID:69e6807da2abe
DTSTAMP:20260420T213733
LOCATION:Evangelische Kirchengemeinde Havixbeck
DESCRIPTION:Schnell ist es passiert... Jemand ist gefallen\, hat sich verletzt und braucht Hilfe. \r\nAber wie genau kann ich als Kind helfen? Was ist jetzt zu tun? Wie geht das mit dem Pflaster und Verbänden?\r\nGenau das zeigen wir euch! 
URL;VALUE=URI:https://www.unser-ferienprogramm.de/havixbeck/veranstaltung.php?id=131638
SUMMARY:Ich kann helfen  - Crashkurs Erste Hilfe
DTSTART;TZID=Europe/Berlin:20250822T143000
END:VEVENT

END:VCALENDAR
