BEGIN:VCALENDAR
VERSION:2.0
PRODID:-//hacksw/handcal//NONSGML v1.0//EN
CALSCALE:GREGORIAN
BEGIN:VTIMEZONE
TZID:Europe/Berlin
X-LIC-LOCATION:Europe/Berlin
BEGIN:DAYLIGHT
TZOFFSETFROM:+0100
TZOFFSETTO:+0200
TZNAME:CEST
DTSTART:19700329T020000
RRULE:FREQ=YEARLY;BYDAY=-1SU;BYMONTH=3
END:DAYLIGHT
BEGIN:STANDARD
TZOFFSETFROM:+0200
TZOFFSETTO:+0100
TZNAME:CET
DTSTART:19701025T030000
RRULE:FREQ=YEARLY;BYDAY=-1SU;BYMONTH=10
END:STANDARD
END:VTIMEZONE
BEGIN:VEVENT
DTEND;TZID=Europe/Berlin:20260505T203000
UID:69ed0fef49af6
DTSTAMP:20260425T210311
LOCATION:Online
DESCRIPTION:Was ist Elterngeld und Elternzeit?\r\nWelches Modell passt zu mir oder uns?\r\nWoran muss ich denken und was beachten?\r\n\r\nWir nehmen uns Zeit für Ihre Fragen und  informieren Sie über die Grundlagen.\r\n
URL;VALUE=URI:https://www.unser-ferienprogramm.de/gummersbach/veranstaltung.php?id=318531
SUMMARY:Elternzeit und Elterngeld - Ein digitaler Infoabend
DTSTART;TZID=Europe/Berlin:20260505T193000
END:VEVENT


BEGIN:VEVENT
DTEND;TZID=Europe/Berlin:20260804T203000
UID:69ed0fef49b0e1
DTSTAMP:20260425T210311
LOCATION:Online
DESCRIPTION:Was ist Elterngeld und Elternzeit?\r\nWelches Modell passt zu mir oder uns?\r\nWoran muss ich denken und was beachten?\r\n\r\nWir nehmen uns Zeit für Ihre Fragen und  informieren Sie über die Grundlagen.\r\n
URL;VALUE=URI:https://www.unser-ferienprogramm.de/gummersbach/veranstaltung.php?id=318531
SUMMARY:Elternzeit und Elterngeld - Ein digitaler Infoabend
DTSTART;TZID=Europe/Berlin:20260804T193000
END:VEVENT


BEGIN:VEVENT
DTEND;TZID=Europe/Berlin:20261103T203000
UID:69ed0fef49b1a2
DTSTAMP:20260425T210311
LOCATION:Online
DESCRIPTION:Was ist Elterngeld und Elternzeit?\r\nWelches Modell passt zu mir oder uns?\r\nWoran muss ich denken und was beachten?\r\n\r\nWir nehmen uns Zeit für Ihre Fragen und  informieren Sie über die Grundlagen.\r\n
URL;VALUE=URI:https://www.unser-ferienprogramm.de/gummersbach/veranstaltung.php?id=318531
SUMMARY:Elternzeit und Elterngeld - Ein digitaler Infoabend
DTSTART;TZID=Europe/Berlin:20261103T193000
END:VEVENT

END:VCALENDAR
