BEGIN:VCALENDAR
VERSION:2.0
PRODID:-//hacksw/handcal//NONSGML v1.0//EN
CALSCALE:GREGORIAN
BEGIN:VTIMEZONE
TZID:Europe/Berlin
X-LIC-LOCATION:Europe/Berlin
BEGIN:DAYLIGHT
TZOFFSETFROM:+0100
TZOFFSETTO:+0200
TZNAME:CEST
DTSTART:19700329T020000
RRULE:FREQ=YEARLY;BYDAY=-1SU;BYMONTH=3
END:DAYLIGHT
BEGIN:STANDARD
TZOFFSETFROM:+0200
TZOFFSETTO:+0100
TZNAME:CET
DTSTART:19701025T030000
RRULE:FREQ=YEARLY;BYDAY=-1SU;BYMONTH=10
END:STANDARD
END:VTIMEZONE
BEGIN:VEVENT
DTEND;TZID=Europe/Berlin:20260526T193000
UID:69ed0ef7f23e9
DTSTAMP:20260425T205903
LOCATION:Brühl
DESCRIPTION:Die offene Kinder- und Jugendarbeit der Stadt Gummersbach bietet allen Kindern und Jugendlichen \r\nzwischen 13 und 18 Jahren die Möglichkeit\, am Pfingstdienstag\, den 26. Mai 2026\, eine Tagesfahrt in das Phantasialand Brühl zu unternehmen.\r\n\r\nDie Fahrt beginnt um 7:30 Uhr an der Haltebucht in der Steinmüllerallee 11 in 51643 Gummersbach und endet dort voraussichtlich um 19:30 Uhr.\r\n\r\nAnmeldungen können ab sofort in den Jugendzentren der Stadt Gummersbach erfolgen\, darunter das Jugendzentrum Innenstadt\, das Begegnungszentrum Bernberg\, sowie die Jugendclubs Dieringhausen\, Derschlag und Steinenbrück. Die Anmeldegebühr beträgt 39\,50 Euro pro Person und muss in Bar in den Jugendzentren für eine verpflichtende Anmeldung abgegeben werden. Außerdem müssen die Eltern eine Einverständniserklärung ausfüllen.\r\n\r\nDa die Anzahl der Plätze begrenzt ist\, empfiehlt die offene Kinder- und Jugendarbeit der Stadt \r\nGummersbach\, sich schnellstmöglich anzumelden.\r\n\r\nDie Tagesfahrt in das Phantasialand Brühl verspricht ein unvergessliches Erlebnis für alle teilnehmenden Kinder und Jugendlichen. Die Offene Kinder- und Jugendarbeit der Stadt Gummersbach freut sich auf zahlreiche Anmeldungen und eine spannende Fahrt.\r\n
URL;VALUE=URI:https://www.unser-ferienprogramm.de/gummersbach/veranstaltung.php?id=317534
SUMMARY:Tagesfahrt in das Phantasialand Brühl
DTSTART;TZID=Europe/Berlin:20260526T073000
END:VEVENT

END:VCALENDAR
