BEGIN:VCALENDAR
VERSION:2.0
PRODID:-//hacksw/handcal//NONSGML v1.0//EN
CALSCALE:GREGORIAN
BEGIN:VTIMEZONE
TZID:Europe/Berlin
X-LIC-LOCATION:Europe/Berlin
BEGIN:DAYLIGHT
TZOFFSETFROM:+0100
TZOFFSETTO:+0200
TZNAME:CEST
DTSTART:19700329T020000
RRULE:FREQ=YEARLY;BYDAY=-1SU;BYMONTH=3
END:DAYLIGHT
BEGIN:STANDARD
TZOFFSETFROM:+0200
TZOFFSETTO:+0100
TZNAME:CET
DTSTART:19701025T030000
RRULE:FREQ=YEARLY;BYDAY=-1SU;BYMONTH=10
END:STANDARD
END:VTIMEZONE
BEGIN:VEVENT
DTEND;TZID=Europe/Berlin:20260814T160000
UID:69ed12a527f49
DTSTAMP:20260425T211445
LOCATION:Stadion  Hammerhaus\, Zum Sportplatz 27d\, 51645 Gummersbach
DESCRIPTION:Großes Fußballcamp in den Sommerferien bei der TuRa Dieringhausen\r\n10. - 14. August 2026\, täglich von 9 - 16 Uhr\r\n\r\nLiebe Fußballfreunde\, liebe Eltern\,\r\nes ist wieder Soweit! Die Fußballabteilung des TSV Dieringhausen veranstaltet in den kommenden Sommerferien ein spannendes und actionreiches Fußballcamp für alle fußballbegeisterten Kinder und Jugendlichen. Unter der Anleitung unserer engagierten Trainer steht der Spaß am Spiel und die Verbesserung eurer Technik im Mittelpunkt.
URL;VALUE=URI:https://www.unser-ferienprogramm.de/gummersbach/veranstaltung.php?id=305444
SUMMARY:Fussballcamp 2026
DTSTART;TZID=Europe/Berlin:20260810T090000
END:VEVENT

END:VCALENDAR
