BEGIN:VCALENDAR
VERSION:2.0
PRODID:-//hacksw/handcal//NONSGML v1.0//EN
CALSCALE:GREGORIAN
BEGIN:VTIMEZONE
TZID:Europe/Berlin
X-LIC-LOCATION:Europe/Berlin
BEGIN:DAYLIGHT
TZOFFSETFROM:+0100
TZOFFSETTO:+0200
TZNAME:CEST
DTSTART:19700329T020000
RRULE:FREQ=YEARLY;BYDAY=-1SU;BYMONTH=3
END:DAYLIGHT
BEGIN:STANDARD
TZOFFSETFROM:+0200
TZOFFSETTO:+0100
TZNAME:CET
DTSTART:19701025T030000
RRULE:FREQ=YEARLY;BYDAY=-1SU;BYMONTH=10
END:STANDARD
END:VTIMEZONE
BEGIN:VEVENT
DTEND;TZID=Europe/Berlin:20260411T000000
UID:69ed33ac4dded
DTSTAMP:20260425T233540
LOCATION:Eifel
DESCRIPTION:In den Osterferien Kraft tanken und\r\nin der Eifel Abenteuer erleben\r\n\r\nIn der Natur Kraft tanken\, Abenteuer erleben und die Alltagssorgen hinter sich\r\nlassen: In den Osterferien lädt die AOK Rheinland/Hamburg Kinder mit schwer\r\noder chronisch kranken Geschwistern wieder zu ihrer Lichtblick-Ferienfreizeit\r\nein.\r\nVon Dienstag\, 7. April\, bis Samstag\, 11. April 2026\, können Kinder im Alter zwischen 8 und 13 Jahren an der Aktion „WaldEntdecken für Geschwister“ in Hürtgenwald in der Eifel teilnehmen. Fünf Tage steht das Naturerleben mit Waldabenteuern und Spaß im Mittelpunkt. Mit dem Förster und seinem Team lernen die Kinder unter anderem\, wie man Hütten baut oder ein Lagerfeuer ganz ohne Streichholz macht. Fernab vom Alltag können sie Neues erleben und Gleichaltrige treffen\, die sich in einer ähnlichen Situation befinden. Das Ziel ist es\, die Kinder auf ihrem Lebensweg zu stärken und ihnen eine unbeschwerte Zeit zu ermöglichen.\r\nDas Besondere an der Aktion: Da die Ferienfreizeit durch die Spendenaktion „Cents für kranke Pänz“ der Mitarbeitenden der AOK Rheinland/Hamburg sowie Einzelspenden finanziert wird\, können auch Kinder teilnehmen\, die nicht bei der AOK Rheinland/Hamburg versichert sind. Der Eigenanteil pro Kind beträgt für die gesamten fünf Tage 15 Euro. Anmeldeschluss ist der 13. Februar. Anmeldungen werden unter der Rufnummer 0211/8791-28276 oder per Mail an matthias.vogt@rh.aok.de entgegengenommen.
URL;VALUE=URI:https://www.unser-ferienprogramm.de/gummersbach/veranstaltung.php?id=302692
SUMMARY:Ferienfreizeit für Geschwister von schwerstkranken Kindern
DTSTART;TZID=Europe/Berlin:20260407T000000
END:VEVENT

END:VCALENDAR
