BEGIN:VCALENDAR
VERSION:2.0
PRODID:-//hacksw/handcal//NONSGML v1.0//EN
CALSCALE:GREGORIAN
BEGIN:VTIMEZONE
TZID:Europe/Berlin
X-LIC-LOCATION:Europe/Berlin
BEGIN:DAYLIGHT
TZOFFSETFROM:+0100
TZOFFSETTO:+0200
TZNAME:CEST
DTSTART:19700329T020000
RRULE:FREQ=YEARLY;BYDAY=-1SU;BYMONTH=3
END:DAYLIGHT
BEGIN:STANDARD
TZOFFSETFROM:+0200
TZOFFSETTO:+0100
TZNAME:CET
DTSTART:19701025T030000
RRULE:FREQ=YEARLY;BYDAY=-1SU;BYMONTH=10
END:STANDARD
END:VTIMEZONE
BEGIN:VEVENT
DTEND;TZID=Europe/Berlin:20260725T000000
UID:69ed2107d1173
DTSTAMP:20260425T221607
LOCATION:Borkum
DESCRIPTION:Lust auf spannende und abwechslungsreiche Tage?\r\n\r\nWie wäre es mit dem Fun- & Actioncamp der Sportjugend Oberberg auf der Nordseeinsel Borkum?\r\n\r\nDort werden wir gemeinsam Trendsportarten erkunden. Wir fahren Fahrrad\, gehen klettern oder lernen den FlowRider kennen. Lass Dich überraschen und stell Dich neuen Herausforderungen!\r\n\r\nDarüber hinaus bietet Dir das Camp den perfekten Sommerurlaub mit Strand und Meer.\r\n\r\nDu passt am besten in unsere Gruppe\, wenn Du zwischen 12 und 15 Jahren alt bist. Außerdem solltest Du Bewegung mögen\, Fahrrad fahren können und offen für Neues sein. Unser qualifiziertes Betreuerteam freut sich auf Dich!\r\n\r\nDer Preis beinhaltet die Unterbringung in Mehrbettzimmern\r\nmit Vollpension\,\r\ndie An-/Abreise\,\r\ndie Fährüberfahrt sowie alle geplanten Aktivitäten vor Ort.\r\n\r\nWICHTIG: ab 2025 ist die Reiserücktrittskostenversicherung nicht mehr inklusive. Bitte schließen Sie eine private Reiserücktrittskostenversicherung ab.\r\n\r\nAnreise\r\nDie Anreise erfolgt gemeinsam mit dem Bus ab Gummersbach\r\nUnterkunft\r\n\r\nDie zertifizierte SportJugendherberge Borkum "Am Wattenmeer" bietet optimale Sportmöglichkeiten im und am Haus: Jugendherberge am Meer.\r\n\r\n\r\nDie Organisation und Durchführung der beworbenen Veranstaltung liegt in der alleinigen Verantwortung des jeweiligen Veranstalters. Für jegliche Fragen\, Ansprüche oder Haftungsangelegenheiten bezüglich der Veranstaltung selbst wende dich bitte direkt an den Veranstalter.
URL;VALUE=URI:https://www.unser-ferienprogramm.de/gummersbach/veranstaltung.php?id=302307
SUMMARY:Fun- & Actioncamp Borkum - Freizeit für Jugendliche
DTSTART;TZID=Europe/Berlin:20260718T000000
END:VEVENT

END:VCALENDAR
