BEGIN:VCALENDAR
VERSION:2.0
PRODID:-//hacksw/handcal//NONSGML v1.0//EN
CALSCALE:GREGORIAN
BEGIN:VTIMEZONE
TZID:Europe/Berlin
X-LIC-LOCATION:Europe/Berlin
BEGIN:DAYLIGHT
TZOFFSETFROM:+0100
TZOFFSETTO:+0200
TZNAME:CEST
DTSTART:19700329T020000
RRULE:FREQ=YEARLY;BYDAY=-1SU;BYMONTH=3
END:DAYLIGHT
BEGIN:STANDARD
TZOFFSETFROM:+0200
TZOFFSETTO:+0100
TZNAME:CET
DTSTART:19701025T030000
RRULE:FREQ=YEARLY;BYDAY=-1SU;BYMONTH=10
END:STANDARD
END:VTIMEZONE
BEGIN:VEVENT
DTEND;TZID=Europe/Berlin:20260810T160000
UID:69ed1003347df
DTSTAMP:20260425T210331
LOCATION:Gummersbach-Bernberg
DESCRIPTION:zusätzlich nur für Schülerinnen und Schüler der 1. Klasse (maßgeblich ist das Schuljahr 2026/27)\r\n\r\nLiebe Eltern\,\r\nwie Ihnen bereits mitgeteilt wurde\, haben Sie im Rahmen der Offenen Ganztagsschule die Möglichkeit\, Ihr Kind auch in den Ferien betreuen zu lassen.\r\n\r\nDie Ferienangebote werden hierbei durch das Jugendamt organisiert und finden bereits seit vielen Jahren als sichere Betreuungsangebote statt.\r\n\r\nDie Ferienbetreuung findet in der Zeit von 8:00 Uhr – 16:00 Uhr statt.\r\n\r\nWichtige Information: Bitte bringen Sie Ihr Kind/Ihre Kinder am ersten Tag der Ferienbetreuung in folgende Räumlichkeiten:\r\n\r\nOGS Grundschule Bernberg\, Ulmenweg 10\, 51647 Gummersbach\r\n\r\nFür die Betreuung in den Ferien entstehen für Sie keine zusätzlichen Betreuungskosten. Allerdings ist auch hier – ebenso wie im Schulalltag- ein Beitrag für das Mittagessen zu entrichten.\r\n\r\nDas Mittagessen wird von Menü Catering Schmidt angeliefert. Hierfür entstehen Kosten in Höhe von 3\,70 € pro Mahlzeit\, pro Tag.\r\n\r\nAus diesem Grund bitten wir Sie\, den Gesamtbetrag für ihre Betreuungswochen in Höhe von 18\,50 € für 5 Tage pro Woche innerhalb der Zahlungsfrist zu begleichen.\r\n\r\nBitte überweisen Sie den Betrag innerhalb der nächsten drei Werktage auf folgendes Konto:\r\nIBAN: DE37 3845 0000 0000 1900 17 (BIC: WELADED1GMB)\r\nBITTE geben sie als Verwendungszweck für die Anmeldung der Sicheren Ferienbetreuung "Sachkonto 443902\, Produkt 1.06.03.01.01"\, "Name der Veranstaltung"\, "TN Vor-\, Nachname" an.\r\n(Nicht bezahlte Anmeldungen werden nach 14 Tagen storniert.)\r\n\r\nWichtiger Hinweis:\r\nBis vier Wochen vor der Sicheren Ferienbetreuung müssen sich die Eltern sich über das Online-Portal der Stadt Gummersbach angemeldet haben. Spätere Anmeldungen können nicht berücksichtigt werden. \r\n\r\nDie Ferienbetreuung wird in verschiedenen Gruppen angeboten\, die jeweils für eine Woche buchbar sind. Das Jugendamt versucht\, in diesen Gruppen den unterschiedlichen Interessen der verschiedenen Kinder gerecht zu werden und ebenfalls das unterschiedliche Alter der Kinder zu berücksichtigen.\r\n\r\nEine Abmeldung ist für eine  Gesamtwoche  ausschließlich per Mail unter dagmar.dinse@gummersbach.de  möglich. Bitte beachten Sie das eine Abmeldung die eine Rückzahlung auslöst\, spätestens 14 Tage vor Beginn der Betreuung erfolgen muss.\r\n\r\nWichtig!!!\r\n\r\nEs gibt kein gemeinsames Frühstück\, jedes Kind muss sich bitte täglich ein eigenes Frühstück sowie eine verschließbare Trinkflasche mitbringen. \r\n\r\nFolgende Dinge sollten die Kinder an dem ersten Tag für die komplette Woche mitbringen:\r\nTurnschuhe\, Wechselkleidung (T-Shirt\, Pulli\, Socken\, Unterhose\, Jogginghose)\r\nRegenkleidung\, festes Schuhwerk (besonders wichtig!!!)\r\nBitte geben Sie ihrem/Ihren Kind/ern die Sport-\,Wechsel-\, und Regenbekleidung beschriftet in einer Tüte oder einem Beutel mit\, alles bleibt die Woche vor Ort. \r\n\r\nFür Rückfragen wenden sie sich bitte an unser Sekretariat. \r\nFrau Dinse: Telefon: 02261 / 87 – 1218\, EMail dagmar.dinse@gummersbach.de\r\nFrau Baumgart: Telefon: 02261 / 87 – 1218\, EMail heike.baumgart@gummersbach.de\r\n
URL;VALUE=URI:https://www.unser-ferienprogramm.de/gummersbach/veranstaltung.php?id=301060
SUMMARY: 4. Sommerferienwoche 2026 (5 bis 6 Jahre) nur für Erstklässler Schuljahr 2026/27
DTSTART;TZID=Europe/Berlin:20260810T080000
END:VEVENT


BEGIN:VEVENT
DTEND;TZID=Europe/Berlin:20260811T160000
UID:69ed1003348091
DTSTAMP:20260425T210331
LOCATION:Gummersbach-Bernberg
DESCRIPTION:zusätzlich nur für Schülerinnen und Schüler der 1. Klasse (maßgeblich ist das Schuljahr 2026/27)\r\n\r\nLiebe Eltern\,\r\nwie Ihnen bereits mitgeteilt wurde\, haben Sie im Rahmen der Offenen Ganztagsschule die Möglichkeit\, Ihr Kind auch in den Ferien betreuen zu lassen.\r\n\r\nDie Ferienangebote werden hierbei durch das Jugendamt organisiert und finden bereits seit vielen Jahren als sichere Betreuungsangebote statt.\r\n\r\nDie Ferienbetreuung findet in der Zeit von 8:00 Uhr – 16:00 Uhr statt.\r\n\r\nWichtige Information: Bitte bringen Sie Ihr Kind/Ihre Kinder am ersten Tag der Ferienbetreuung in folgende Räumlichkeiten:\r\n\r\nOGS Grundschule Bernberg\, Ulmenweg 10\, 51647 Gummersbach\r\n\r\nFür die Betreuung in den Ferien entstehen für Sie keine zusätzlichen Betreuungskosten. Allerdings ist auch hier – ebenso wie im Schulalltag- ein Beitrag für das Mittagessen zu entrichten.\r\n\r\nDas Mittagessen wird von Menü Catering Schmidt angeliefert. Hierfür entstehen Kosten in Höhe von 3\,70 € pro Mahlzeit\, pro Tag.\r\n\r\nAus diesem Grund bitten wir Sie\, den Gesamtbetrag für ihre Betreuungswochen in Höhe von 18\,50 € für 5 Tage pro Woche innerhalb der Zahlungsfrist zu begleichen.\r\n\r\nBitte überweisen Sie den Betrag innerhalb der nächsten drei Werktage auf folgendes Konto:\r\nIBAN: DE37 3845 0000 0000 1900 17 (BIC: WELADED1GMB)\r\nBITTE geben sie als Verwendungszweck für die Anmeldung der Sicheren Ferienbetreuung "Sachkonto 443902\, Produkt 1.06.03.01.01"\, "Name der Veranstaltung"\, "TN Vor-\, Nachname" an.\r\n(Nicht bezahlte Anmeldungen werden nach 14 Tagen storniert.)\r\n\r\nWichtiger Hinweis:\r\nBis vier Wochen vor der Sicheren Ferienbetreuung müssen sich die Eltern sich über das Online-Portal der Stadt Gummersbach angemeldet haben. Spätere Anmeldungen können nicht berücksichtigt werden. \r\n\r\nDie Ferienbetreuung wird in verschiedenen Gruppen angeboten\, die jeweils für eine Woche buchbar sind. Das Jugendamt versucht\, in diesen Gruppen den unterschiedlichen Interessen der verschiedenen Kinder gerecht zu werden und ebenfalls das unterschiedliche Alter der Kinder zu berücksichtigen.\r\n\r\nEine Abmeldung ist für eine  Gesamtwoche  ausschließlich per Mail unter dagmar.dinse@gummersbach.de  möglich. Bitte beachten Sie das eine Abmeldung die eine Rückzahlung auslöst\, spätestens 14 Tage vor Beginn der Betreuung erfolgen muss.\r\n\r\nWichtig!!!\r\n\r\nEs gibt kein gemeinsames Frühstück\, jedes Kind muss sich bitte täglich ein eigenes Frühstück sowie eine verschließbare Trinkflasche mitbringen. \r\n\r\nFolgende Dinge sollten die Kinder an dem ersten Tag für die komplette Woche mitbringen:\r\nTurnschuhe\, Wechselkleidung (T-Shirt\, Pulli\, Socken\, Unterhose\, Jogginghose)\r\nRegenkleidung\, festes Schuhwerk (besonders wichtig!!!)\r\nBitte geben Sie ihrem/Ihren Kind/ern die Sport-\,Wechsel-\, und Regenbekleidung beschriftet in einer Tüte oder einem Beutel mit\, alles bleibt die Woche vor Ort. \r\n\r\nFür Rückfragen wenden sie sich bitte an unser Sekretariat. \r\nFrau Dinse: Telefon: 02261 / 87 – 1218\, EMail dagmar.dinse@gummersbach.de\r\nFrau Baumgart: Telefon: 02261 / 87 – 1218\, EMail heike.baumgart@gummersbach.de\r\n
URL;VALUE=URI:https://www.unser-ferienprogramm.de/gummersbach/veranstaltung.php?id=301060
SUMMARY: 4. Sommerferienwoche 2026 (5 bis 6 Jahre) nur für Erstklässler Schuljahr 2026/27
DTSTART;TZID=Europe/Berlin:20260811T080000
END:VEVENT


BEGIN:VEVENT
DTEND;TZID=Europe/Berlin:20260812T160000
UID:69ed1003348262
DTSTAMP:20260425T210331
LOCATION:Gummersbach-Bernberg
DESCRIPTION:zusätzlich nur für Schülerinnen und Schüler der 1. Klasse (maßgeblich ist das Schuljahr 2026/27)\r\n\r\nLiebe Eltern\,\r\nwie Ihnen bereits mitgeteilt wurde\, haben Sie im Rahmen der Offenen Ganztagsschule die Möglichkeit\, Ihr Kind auch in den Ferien betreuen zu lassen.\r\n\r\nDie Ferienangebote werden hierbei durch das Jugendamt organisiert und finden bereits seit vielen Jahren als sichere Betreuungsangebote statt.\r\n\r\nDie Ferienbetreuung findet in der Zeit von 8:00 Uhr – 16:00 Uhr statt.\r\n\r\nWichtige Information: Bitte bringen Sie Ihr Kind/Ihre Kinder am ersten Tag der Ferienbetreuung in folgende Räumlichkeiten:\r\n\r\nOGS Grundschule Bernberg\, Ulmenweg 10\, 51647 Gummersbach\r\n\r\nFür die Betreuung in den Ferien entstehen für Sie keine zusätzlichen Betreuungskosten. Allerdings ist auch hier – ebenso wie im Schulalltag- ein Beitrag für das Mittagessen zu entrichten.\r\n\r\nDas Mittagessen wird von Menü Catering Schmidt angeliefert. Hierfür entstehen Kosten in Höhe von 3\,70 € pro Mahlzeit\, pro Tag.\r\n\r\nAus diesem Grund bitten wir Sie\, den Gesamtbetrag für ihre Betreuungswochen in Höhe von 18\,50 € für 5 Tage pro Woche innerhalb der Zahlungsfrist zu begleichen.\r\n\r\nBitte überweisen Sie den Betrag innerhalb der nächsten drei Werktage auf folgendes Konto:\r\nIBAN: DE37 3845 0000 0000 1900 17 (BIC: WELADED1GMB)\r\nBITTE geben sie als Verwendungszweck für die Anmeldung der Sicheren Ferienbetreuung "Sachkonto 443902\, Produkt 1.06.03.01.01"\, "Name der Veranstaltung"\, "TN Vor-\, Nachname" an.\r\n(Nicht bezahlte Anmeldungen werden nach 14 Tagen storniert.)\r\n\r\nWichtiger Hinweis:\r\nBis vier Wochen vor der Sicheren Ferienbetreuung müssen sich die Eltern sich über das Online-Portal der Stadt Gummersbach angemeldet haben. Spätere Anmeldungen können nicht berücksichtigt werden. \r\n\r\nDie Ferienbetreuung wird in verschiedenen Gruppen angeboten\, die jeweils für eine Woche buchbar sind. Das Jugendamt versucht\, in diesen Gruppen den unterschiedlichen Interessen der verschiedenen Kinder gerecht zu werden und ebenfalls das unterschiedliche Alter der Kinder zu berücksichtigen.\r\n\r\nEine Abmeldung ist für eine  Gesamtwoche  ausschließlich per Mail unter dagmar.dinse@gummersbach.de  möglich. Bitte beachten Sie das eine Abmeldung die eine Rückzahlung auslöst\, spätestens 14 Tage vor Beginn der Betreuung erfolgen muss.\r\n\r\nWichtig!!!\r\n\r\nEs gibt kein gemeinsames Frühstück\, jedes Kind muss sich bitte täglich ein eigenes Frühstück sowie eine verschließbare Trinkflasche mitbringen. \r\n\r\nFolgende Dinge sollten die Kinder an dem ersten Tag für die komplette Woche mitbringen:\r\nTurnschuhe\, Wechselkleidung (T-Shirt\, Pulli\, Socken\, Unterhose\, Jogginghose)\r\nRegenkleidung\, festes Schuhwerk (besonders wichtig!!!)\r\nBitte geben Sie ihrem/Ihren Kind/ern die Sport-\,Wechsel-\, und Regenbekleidung beschriftet in einer Tüte oder einem Beutel mit\, alles bleibt die Woche vor Ort. \r\n\r\nFür Rückfragen wenden sie sich bitte an unser Sekretariat. \r\nFrau Dinse: Telefon: 02261 / 87 – 1218\, EMail dagmar.dinse@gummersbach.de\r\nFrau Baumgart: Telefon: 02261 / 87 – 1218\, EMail heike.baumgart@gummersbach.de\r\n
URL;VALUE=URI:https://www.unser-ferienprogramm.de/gummersbach/veranstaltung.php?id=301060
SUMMARY: 4. Sommerferienwoche 2026 (5 bis 6 Jahre) nur für Erstklässler Schuljahr 2026/27
DTSTART;TZID=Europe/Berlin:20260812T080000
END:VEVENT


BEGIN:VEVENT
DTEND;TZID=Europe/Berlin:20260813T160000
UID:69ed1003348403
DTSTAMP:20260425T210331
LOCATION:Gummersbach-Bernberg
DESCRIPTION:zusätzlich nur für Schülerinnen und Schüler der 1. Klasse (maßgeblich ist das Schuljahr 2026/27)\r\n\r\nLiebe Eltern\,\r\nwie Ihnen bereits mitgeteilt wurde\, haben Sie im Rahmen der Offenen Ganztagsschule die Möglichkeit\, Ihr Kind auch in den Ferien betreuen zu lassen.\r\n\r\nDie Ferienangebote werden hierbei durch das Jugendamt organisiert und finden bereits seit vielen Jahren als sichere Betreuungsangebote statt.\r\n\r\nDie Ferienbetreuung findet in der Zeit von 8:00 Uhr – 16:00 Uhr statt.\r\n\r\nWichtige Information: Bitte bringen Sie Ihr Kind/Ihre Kinder am ersten Tag der Ferienbetreuung in folgende Räumlichkeiten:\r\n\r\nOGS Grundschule Bernberg\, Ulmenweg 10\, 51647 Gummersbach\r\n\r\nFür die Betreuung in den Ferien entstehen für Sie keine zusätzlichen Betreuungskosten. Allerdings ist auch hier – ebenso wie im Schulalltag- ein Beitrag für das Mittagessen zu entrichten.\r\n\r\nDas Mittagessen wird von Menü Catering Schmidt angeliefert. Hierfür entstehen Kosten in Höhe von 3\,70 € pro Mahlzeit\, pro Tag.\r\n\r\nAus diesem Grund bitten wir Sie\, den Gesamtbetrag für ihre Betreuungswochen in Höhe von 18\,50 € für 5 Tage pro Woche innerhalb der Zahlungsfrist zu begleichen.\r\n\r\nBitte überweisen Sie den Betrag innerhalb der nächsten drei Werktage auf folgendes Konto:\r\nIBAN: DE37 3845 0000 0000 1900 17 (BIC: WELADED1GMB)\r\nBITTE geben sie als Verwendungszweck für die Anmeldung der Sicheren Ferienbetreuung "Sachkonto 443902\, Produkt 1.06.03.01.01"\, "Name der Veranstaltung"\, "TN Vor-\, Nachname" an.\r\n(Nicht bezahlte Anmeldungen werden nach 14 Tagen storniert.)\r\n\r\nWichtiger Hinweis:\r\nBis vier Wochen vor der Sicheren Ferienbetreuung müssen sich die Eltern sich über das Online-Portal der Stadt Gummersbach angemeldet haben. Spätere Anmeldungen können nicht berücksichtigt werden. \r\n\r\nDie Ferienbetreuung wird in verschiedenen Gruppen angeboten\, die jeweils für eine Woche buchbar sind. Das Jugendamt versucht\, in diesen Gruppen den unterschiedlichen Interessen der verschiedenen Kinder gerecht zu werden und ebenfalls das unterschiedliche Alter der Kinder zu berücksichtigen.\r\n\r\nEine Abmeldung ist für eine  Gesamtwoche  ausschließlich per Mail unter dagmar.dinse@gummersbach.de  möglich. Bitte beachten Sie das eine Abmeldung die eine Rückzahlung auslöst\, spätestens 14 Tage vor Beginn der Betreuung erfolgen muss.\r\n\r\nWichtig!!!\r\n\r\nEs gibt kein gemeinsames Frühstück\, jedes Kind muss sich bitte täglich ein eigenes Frühstück sowie eine verschließbare Trinkflasche mitbringen. \r\n\r\nFolgende Dinge sollten die Kinder an dem ersten Tag für die komplette Woche mitbringen:\r\nTurnschuhe\, Wechselkleidung (T-Shirt\, Pulli\, Socken\, Unterhose\, Jogginghose)\r\nRegenkleidung\, festes Schuhwerk (besonders wichtig!!!)\r\nBitte geben Sie ihrem/Ihren Kind/ern die Sport-\,Wechsel-\, und Regenbekleidung beschriftet in einer Tüte oder einem Beutel mit\, alles bleibt die Woche vor Ort. \r\n\r\nFür Rückfragen wenden sie sich bitte an unser Sekretariat. \r\nFrau Dinse: Telefon: 02261 / 87 – 1218\, EMail dagmar.dinse@gummersbach.de\r\nFrau Baumgart: Telefon: 02261 / 87 – 1218\, EMail heike.baumgart@gummersbach.de\r\n
URL;VALUE=URI:https://www.unser-ferienprogramm.de/gummersbach/veranstaltung.php?id=301060
SUMMARY: 4. Sommerferienwoche 2026 (5 bis 6 Jahre) nur für Erstklässler Schuljahr 2026/27
DTSTART;TZID=Europe/Berlin:20260813T080000
END:VEVENT


BEGIN:VEVENT
DTEND;TZID=Europe/Berlin:20260814T160000
UID:69ed1003348594
DTSTAMP:20260425T210331
LOCATION:Gummersbach-Bernberg
DESCRIPTION:zusätzlich nur für Schülerinnen und Schüler der 1. Klasse (maßgeblich ist das Schuljahr 2026/27)\r\n\r\nLiebe Eltern\,\r\nwie Ihnen bereits mitgeteilt wurde\, haben Sie im Rahmen der Offenen Ganztagsschule die Möglichkeit\, Ihr Kind auch in den Ferien betreuen zu lassen.\r\n\r\nDie Ferienangebote werden hierbei durch das Jugendamt organisiert und finden bereits seit vielen Jahren als sichere Betreuungsangebote statt.\r\n\r\nDie Ferienbetreuung findet in der Zeit von 8:00 Uhr – 16:00 Uhr statt.\r\n\r\nWichtige Information: Bitte bringen Sie Ihr Kind/Ihre Kinder am ersten Tag der Ferienbetreuung in folgende Räumlichkeiten:\r\n\r\nOGS Grundschule Bernberg\, Ulmenweg 10\, 51647 Gummersbach\r\n\r\nFür die Betreuung in den Ferien entstehen für Sie keine zusätzlichen Betreuungskosten. Allerdings ist auch hier – ebenso wie im Schulalltag- ein Beitrag für das Mittagessen zu entrichten.\r\n\r\nDas Mittagessen wird von Menü Catering Schmidt angeliefert. Hierfür entstehen Kosten in Höhe von 3\,70 € pro Mahlzeit\, pro Tag.\r\n\r\nAus diesem Grund bitten wir Sie\, den Gesamtbetrag für ihre Betreuungswochen in Höhe von 18\,50 € für 5 Tage pro Woche innerhalb der Zahlungsfrist zu begleichen.\r\n\r\nBitte überweisen Sie den Betrag innerhalb der nächsten drei Werktage auf folgendes Konto:\r\nIBAN: DE37 3845 0000 0000 1900 17 (BIC: WELADED1GMB)\r\nBITTE geben sie als Verwendungszweck für die Anmeldung der Sicheren Ferienbetreuung "Sachkonto 443902\, Produkt 1.06.03.01.01"\, "Name der Veranstaltung"\, "TN Vor-\, Nachname" an.\r\n(Nicht bezahlte Anmeldungen werden nach 14 Tagen storniert.)\r\n\r\nWichtiger Hinweis:\r\nBis vier Wochen vor der Sicheren Ferienbetreuung müssen sich die Eltern sich über das Online-Portal der Stadt Gummersbach angemeldet haben. Spätere Anmeldungen können nicht berücksichtigt werden. \r\n\r\nDie Ferienbetreuung wird in verschiedenen Gruppen angeboten\, die jeweils für eine Woche buchbar sind. Das Jugendamt versucht\, in diesen Gruppen den unterschiedlichen Interessen der verschiedenen Kinder gerecht zu werden und ebenfalls das unterschiedliche Alter der Kinder zu berücksichtigen.\r\n\r\nEine Abmeldung ist für eine  Gesamtwoche  ausschließlich per Mail unter dagmar.dinse@gummersbach.de  möglich. Bitte beachten Sie das eine Abmeldung die eine Rückzahlung auslöst\, spätestens 14 Tage vor Beginn der Betreuung erfolgen muss.\r\n\r\nWichtig!!!\r\n\r\nEs gibt kein gemeinsames Frühstück\, jedes Kind muss sich bitte täglich ein eigenes Frühstück sowie eine verschließbare Trinkflasche mitbringen. \r\n\r\nFolgende Dinge sollten die Kinder an dem ersten Tag für die komplette Woche mitbringen:\r\nTurnschuhe\, Wechselkleidung (T-Shirt\, Pulli\, Socken\, Unterhose\, Jogginghose)\r\nRegenkleidung\, festes Schuhwerk (besonders wichtig!!!)\r\nBitte geben Sie ihrem/Ihren Kind/ern die Sport-\,Wechsel-\, und Regenbekleidung beschriftet in einer Tüte oder einem Beutel mit\, alles bleibt die Woche vor Ort. \r\n\r\nFür Rückfragen wenden sie sich bitte an unser Sekretariat. \r\nFrau Dinse: Telefon: 02261 / 87 – 1218\, EMail dagmar.dinse@gummersbach.de\r\nFrau Baumgart: Telefon: 02261 / 87 – 1218\, EMail heike.baumgart@gummersbach.de\r\n
URL;VALUE=URI:https://www.unser-ferienprogramm.de/gummersbach/veranstaltung.php?id=301060
SUMMARY: 4. Sommerferienwoche 2026 (5 bis 6 Jahre) nur für Erstklässler Schuljahr 2026/27
DTSTART;TZID=Europe/Berlin:20260814T080000
END:VEVENT

END:VCALENDAR
