BEGIN:VCALENDAR
VERSION:2.0
PRODID:-//hacksw/handcal//NONSGML v1.0//EN
CALSCALE:GREGORIAN
BEGIN:VTIMEZONE
TZID:Europe/Berlin
X-LIC-LOCATION:Europe/Berlin
BEGIN:DAYLIGHT
TZOFFSETFROM:+0100
TZOFFSETTO:+0200
TZNAME:CEST
DTSTART:19700329T020000
RRULE:FREQ=YEARLY;BYDAY=-1SU;BYMONTH=3
END:DAYLIGHT
BEGIN:STANDARD
TZOFFSETFROM:+0200
TZOFFSETTO:+0100
TZNAME:CET
DTSTART:19701025T030000
RRULE:FREQ=YEARLY;BYDAY=-1SU;BYMONTH=10
END:STANDARD
END:VTIMEZONE
BEGIN:VEVENT
DTEND;TZID=Europe/Berlin:20250510T213000
UID:69ed32e98fd72
DTSTAMP:20260425T233225
LOCATION:Am Mühlenberg 1\, 51688 Wipperfürth
DESCRIPTION:Der FB Jugend und Familie der Stadt Gummersbach bietet an:\r\n\r\nNachschulung für Jugendgruppenleiter/innen im Mai 2025 in Wipperfürth\r\n\r\nDas Jugendamt der Hansestadt Wipperfürth bietet in Kooperation mit den Jugendämtern Gummersbach und Radevormwald wieder einen Nachschulung für Jugendgruppenleiter/innen an. Es handelt sich hierbei um eine 1-tägige Schulung. \r\n\r\nEingeladen sind Jugendliche ab 16 Jahren und Erwachsene\, die bereits bei einem Verband/Verein\, bei einer Kirchengemeinde oder im Bereich der offenen Jugendarbeit als Gruppenleiter/innen oder Helfer/innen tätig sind (regelmäßig Gruppenstunden\, sporadischer Einsatz bei Festen oder großen Veranstaltungen\, Filmnachmittage\, Disco\, Ferienfreizeiten etc.) und sich durch die Teilnahme an einem Gruppenleiterkurs fachlich qualifizieren bzw. neue Anregungen holen wollen.\r\n\r\nAm Ende des Kurses steht für alle TeilnehmerInnen eine schriftliche Abschlussprüfung zur Erlangung der bundeseinheitlichen JuLeiCa. Der 1. Hilfe-Kurs muss extern absolviert werden. \r\n\r\nNachschulung zur Verlängerung:\r\nZur Verlängerung der Juleica zum Ablauf der Gültigkeitsdauer (3 Jahre) sind Nachschulungsmodule im Umfang von mindestens 8 Zeitstunden gefordert. \r\n\r\nDie Teilnahme an den gewählten Nachschulungsterminen ist verbindlich!\r\nDie Fortbildungseinheit kostet 35\,00 € (mit Familienpass 50% Ermäßigung).
URL;VALUE=URI:https://www.unser-ferienprogramm.de/gummersbach/veranstaltung.php?id=244421
SUMMARY:2. Nachschulung für Jugendgruppenleiter/innen
DTSTART;TZID=Europe/Berlin:20250510T090000
END:VEVENT

END:VCALENDAR
